Workbook
Name CBWorkbookPriority: -2027624740
Name EconomicYTD: "'PSE&G'!$A$7:$A$56"
Name solver_cvg: 0.0001
Name solver_drv: 1
Name solver_est: 1
Name solver_itr: 100
Name solver_lin: 2
Name solver_neg: 2
Name solver_num: 0
Name solver_nwt: 1
Name solver_pre: 0.000001
Name solver_scl: 2
Name solver_sho: 2
Name solver_tim: 100
Name solver_tol: 0.05
Name solver_typ: 3
Name solver_val: 981598
Name Z_28948E05_8F34_4F1E_96FB_A80A6A844600_.wvu.PrintArea: '1A - ADIT Current Year'!$B$1:$I$88
Name Z_28948E05_8F34_4F1E_96FB_A80A6A844600_.wvu.PrintArea: '1C - ADIT Prior Year'!$B$1:$I$82
Name Z_28948E05_8F34_4F1E_96FB_A80A6A844600_.wvu.PrintArea: '3 - Revenue Credits'!$A$2:$D$38
Name Z_28948E05_8F34_4F1E_96FB_A80A6A844600_.wvu.PrintArea: 'Appendix A'!$A$2:$H$306
Name Z_3A38DF7A_C35E_4DD3_9893_26310A3EF836_.wvu.PrintArea: '3 - Revenue Credits'!$A$2:$D$38
Name Z_3A38DF7A_C35E_4DD3_9893_26310A3EF836_.wvu.PrintArea: 'Appendix A'!$A$2:$H$306
Name Z_416404B7_8533_4A12_ABD0_58CFDEB49D80_.wvu.PrintArea: '1A - ADIT Current Year'!$B$1:$I$98
Name Z_416404B7_8533_4A12_ABD0_58CFDEB49D80_.wvu.PrintArea: '1C - ADIT Prior Year'!$B$1:$I$87
Name Z_416404B7_8533_4A12_ABD0_58CFDEB49D80_.wvu.PrintArea: '2 - Other Taxes'!$A$1:$H$61
Name Z_416404B7_8533_4A12_ABD0_58CFDEB49D80_.wvu.PrintArea: '3 - Revenue Credits'!$A$2:$D$41
Name Z_416404B7_8533_4A12_ABD0_58CFDEB49D80_.wvu.PrintArea: '4 - Cost Support'!$A$1:$U$197
Name Z_416404B7_8533_4A12_ABD0_58CFDEB49D80_.wvu.PrintArea: '6A - NITS True-Up '!$B$1:$L$71
Name Z_416404B7_8533_4A12_ABD0_58CFDEB49D80_.wvu.PrintArea: '6B - Schedule 12 True-Up'!$B$1:$L$71
Name Z_416404B7_8533_4A12_ABD0_58CFDEB49D80_.wvu.PrintArea: 'Appendix A'!$A$3:$H$309
Name Z_416404B7_8533_4A12_ABD0_58CFDEB49D80_.wvu.PrintTitles: '4 - Cost Support'!$1:$4
Name Z_416404B7_8533_4A12_ABD0_58CFDEB49D80_.wvu.PrintTitles: 'Appendix A'!$2:$6
Name Z_4C7C2344_134C_465A_ADEB_A5E96AAE2308_.wvu.PrintArea: '3 - Revenue Credits'!$A$2:$D$38
Name Z_4C7C2344_134C_465A_ADEB_A5E96AAE2308_.wvu.PrintArea: 'Appendix A'!$A$2:$H$306
Name Z_63011E91_4609_4523_98FE_FD252E915668_.wvu.PrintArea: '1A - ADIT Current Year'!$B$1:$I$88
Name Z_63011E91_4609_4523_98FE_FD252E915668_.wvu.PrintArea: '1C - ADIT Prior Year'!$B$1:$I$82
Name Z_6928E596_79BD_4CEC_9F0D_07E62D69B2A5_.wvu.PrintArea: '1A - ADIT Current Year'!$B$1:$I$88
Name Z_6928E596_79BD_4CEC_9F0D_07E62D69B2A5_.wvu.PrintArea: '1C - ADIT Prior Year'!$B$1:$I$82
Name Z_71B42B22_A376_44B5_B0C1_23FC1AA3DBA2_.wvu.PrintArea: '1A - ADIT Current Year'!$B$1:$I$88
Name Z_71B42B22_A376_44B5_B0C1_23FC1AA3DBA2_.wvu.PrintArea: '1C - ADIT Prior Year'!$B$1:$I$82
Name Z_71B42B22_A376_44B5_B0C1_23FC1AA3DBA2_.wvu.PrintArea: '3 - Revenue Credits'!$A$2:$D$38
Name Z_71B42B22_A376_44B5_B0C1_23FC1AA3DBA2_.wvu.PrintArea: 'Appendix A'!$A$2:$H$306
Name Z_8FBB4DC9_2D51_4AB9_80D8_F8474B404C29_.wvu.PrintArea: '1A - ADIT Current Year'!$B$1:$I$88
Name Z_8FBB4DC9_2D51_4AB9_80D8_F8474B404C29_.wvu.PrintArea: '1C - ADIT Prior Year'!$B$1:$I$82
Name Z_B647CB7F_C846_4278_B6B1_1EF7F3C004F5_.wvu.PrintArea: '1A - ADIT Current Year'!$B$1:$I$88
Name Z_B647CB7F_C846_4278_B6B1_1EF7F3C004F5_.wvu.PrintArea: '1C - ADIT Prior Year'!$B$1:$I$82
Name Z_DA967730_B71F_4038_B1B7_9D4790729C5D_.wvu.PrintArea: '3 - Revenue Credits'!$A$2:$D$38
Name Z_DA967730_B71F_4038_B1B7_9D4790729C5D_.wvu.PrintArea: 'Appendix A'!$A$2:$H$306
Name Z_DC91DEF3_837B_4BB9_A81E_3B78C5914E6C_.wvu.PrintArea: '1A - ADIT Current Year'!$B$1:$I$88
Name Z_DC91DEF3_837B_4BB9_A81E_3B78C5914E6C_.wvu.PrintArea: '1C - ADIT Prior Year'!$B$1:$I$82
Name Z_DC91DEF3_837B_4BB9_A81E_3B78C5914E6C_.wvu.PrintArea: '3 - Revenue Credits'!$A$2:$D$38
Name Z_DC91DEF3_837B_4BB9_A81E_3B78C5914E6C_.wvu.PrintArea: 'Appendix A'!$A$2:$H$306
Name Z_F96D6087_3330_4A81_95EC_26BA83722A49_.wvu.PrintArea: '3 - Revenue Credits'!$A$2:$D$38
Name Z_F96D6087_3330_4A81_95EC_26BA83722A49_.wvu.PrintArea: 'Appendix A'!$A$2:$H$306
Name Z_FAAD9AAC_1337_43AB_BF1F_CCF9DFCF5B78_.wvu.PrintArea: '1A - ADIT Current Year'!$B$1:$I$88
Name Z_FAAD9AAC_1337_43AB_BF1F_CCF9DFCF5B78_.wvu.PrintArea: '1C - ADIT Prior Year'!$B$1:$I$82
Name Z_FAAD9AAC_1337_43AB_BF1F_CCF9DFCF5B78_.wvu.PrintArea: '3 - Revenue Credits'!$A$2:$D$38
Name Z_FAAD9AAC_1337_43AB_BF1F_CCF9DFCF5B78_.wvu.PrintArea: 'Appendix A'!$A$2:$H$306

Sheet Appendix A
A3: Dayton Power and Light
A4: ATTACHMENT H-15A | H4: Actual for
A5: Formula Rate -- Appendix A (electric only) | E5: Notes | F5: Formula Rate Attachment Reference or Instruction | H5: 12 Months Ended December 31, 2023
A6: Shaded cells are input cells
A7: Allocators
B9: Wages & Salary Allocation Factor
A10: 1 | C10: Transmission Wages Expense | F10: ="(Attachment 4, Line "&'4 - Cost Support'!$A$33&")" -> (Attachment 4, Line 16) | H10: =+'4 - Cost Support'!T33 -> 4655915
A12: =+A10+1 -> 2 | C12: Total O&M Wages Expense | F12: ="(Attachment 4, Line "&'4 - Cost Support'!$A$31&")" -> (Attachment 4, Line 14) | H12: =+'4 - Cost Support'!T31 -> 58001419
A13: =+A12+1 -> 3 | C13: Less A&G Wages Expense | F13: ="(Attachment 4, Line "&'4 - Cost Support'!$A$32&")" -> (Attachment 4, Line 15) | H13: =+'4 - Cost Support'!T32 -> 15715987
A14: =+A13+1 -> 4 | C14: Total Wages Less A&G Wages Expense | F14: ="(Line "&A12&" - Line "&A13&")" -> (Line 2 - Line 3) | H14: =H12-H13 -> 42285432
A16: 5 | B16: Wages & Salary Allocator | F16: ="(Line "&A10&" / Line "&A14&")" -> (Line 1 / Line 4) | H16: =H10/H14 -> 0.11010683
B18: Plant Allocation Factors
A19: =+A16+1 -> 6 | C19: Electric Plant in Service | E19: ="(Note "&B$297&")" -> (Note A) | F19: ="(Attachment 4, Line "&'4 - Cost Support'!A9&")" -> (Attachment 4, Line 1) | H19: =+'4 - Cost Support'!T9 -> 2956296774
A20: =+A19+1 -> 7 | C20: Accumulated Depreciation (Total Electric Plant) | E20: ="(Note "&B$297&")" -> (Note A) | F20: ="(Attachment 4, Line "&'4 - Cost Support'!A11&")" -> (Attachment 4, Line 3) | H20: =+'4 - Cost Support'!T11 -> -1.2267014e+09
A21: =+A20+1 -> 8 | C21: Net Plant | F21: ="(Line "&A19&" - Line "&A20&")" -> (Line 6 - Line 7) | H21: =+H19+H20 -> 1.7295954e+09
A23: =+A21+1 -> 9 | C23: Transmission Gross Plant | E23: ="(Note "&B$297&")" -> (Note A) | F23: ="(Line "&A42&")" -> (Line 20) | H23: =H42 -> 6.7137935e+08
A24: =+A23+1 -> 10 | B24: Gross Plant Allocator | F24: ="(Line "&A23&" / Line "&A19&")" -> (Line 9 / Line 6) | H24: =H23/H19 -> 0.22710147
A26: =+A24+1 -> 11 | C26: Transmission Net Plant | E26: ="(Note "&B$297&")" -> (Note A) | F26: ="(Line "&A57&")" -> (Line 29) | H26: =H57 -> 4.2743888e+08
A27: =+A26+1 -> 12 | B27: Net Plant Allocator | F27: ="(Line "&A26&" / Line "&A21&")" -> (Line 11 / Line 8) | H27: =H26/H21 -> 0.2471323
A30: Plant Calculations
B32: Plant In Service
A33: =+A27+1 -> 13 | C33: Transmission Plant In Service | E33: ="(Note "&B$297&" & "&B306&")" -> (Note A & J) | F33: ="(Attachment 4, Line "&'4 - Cost Support'!A17&")" -> (Attachment 4, Line 7) | H33: =+'4 - Cost Support'!T17 -> 6.617691e+08
A35: =+A33+1 -> 14 | C35: General | E35: ="(Note "&B$297&")" -> (Note A) | F35: ="(Attachment 4, Line "&'4 - Cost Support'!A18&")" -> (Attachment 4, Line 8) | H35: =+'4 - Cost Support'!T18 -> 34384219
A36: =A35+1 -> 15 | C36: Intangible - Electric | E36: ="(Note "&B$297&")" -> (Note A) | F36: ="(Attachment 4, Line "&'4 - Cost Support'!A19&")" -> (Attachment 4, Line 9) | H36: =+'4 - Cost Support'!T19 -> 52896910
A37: =A36+1 -> 16 | C37: Common Plant - Electric | E37: ="(Note "&B$297&")" -> (Note A) | F37: ="(Attachment 4, Line "&'4 - Cost Support'!A20&")" -> (Attachment 4, Line 10) | H37: =+'4 - Cost Support'!T20 -> 0
A38: =A37+1 -> 17 | C38: Total General, Intangible & Common Plant | F38: ="(Line "&A35&" + Line "&A36&" + Line "&A37&")" -> (Line 14 + Line 15 + Line 16) | H38: =SUM(H35:H37) -> 87281129
A39: =+A38+1 -> 18 | C39: Wage & Salary Allocator | F39: ="(Line "&A$16&")" -> (Line 5) | H39: =H16 -> 0.11010683
A40: =A39+1 -> 19 | C40: General and Intangible Plant Allocated to Transmission | F40: ="(Line "&A38&" * Line "&A39&")" -> (Line 17 * Line 18) | H40: =+H38*H39 -> 9610248.7
A42: =+A40+1 -> 20 | B42: Total Plant In Service | F42: ="(Line "&A33&" + Line "&A40&")" -> (Line 13 + Line 19) | H42: =+H33+H40 -> 6.7137935e+08
B44: Accumulated Depreciation
A46: =+A42+1 -> 21 | C46: Transmission Accumulated Depreciation | E46: ="(Note "&B$297&")" -> (Note A) | F46: ="(Attachment 4, Line "&'4 - Cost Support'!A23&")" -> (Attachment 4, Line 11) | H46: =+'4 - Cost Support'!T23 -> -2.391114e+08
A48: =A46+1 -> 22 | C48: Accumulated General Depreciation | E48: ="(Note "&B$297&")" -> (Note A) | F48: ="(Attachment 4, Line "&'4 - Cost Support'!A24&")" -> (Attachment 4, Line 12) | H48: =+'4 - Cost Support'!T24 -> -10264911
A49: =+A48+1 -> 23 | C49: Accumulated Intangible Amortization | E49: ="(Note "&B$297&")" -> (Note A) | F49: ="(Attachment 4, Line "&'4 - Cost Support'!A12&")" -> (Attachment 4, Line 4) | H49: =+'4 - Cost Support'!T12 -> -33593086
A50: =+A49+1 -> 24 | C50: Accumulated Common Plant Depreciation and Amortization- Electric | E50: ="(Note "&B$297&")" -> (Note A) | F50: ="(Attachment 4, Line "&'4 - Cost Support'!A25&")" -> (Attachment 4, Line 13) | H50: =+'4 - Cost Support'!T25 -> 0
A51: =+A50+1 -> 25 | C51: Accumulated General, Intangible and Common Depreciation | F51: ="(Line "&A48&" + "&A49&" + "&A50&")" -> (Line 22 + 23 + 24) | H51: =+H48+H50+H49 -> -43857997
A52: =+A51+1 -> 26 | C52: =+C39 -> Wage & Salary Allocator | F52: ="(Line "&A$16&")" -> (Line 5) | H52: =H16 -> 0.11010683
A53: =+A52+1 -> 27 | C53: Subtotal General, Intangible and Common Accum. Depreciation Allocated to Transmission | F53: ="(Line "&A51&" * Line "&A52&")" -> (Line 25 * Line 26) | H53: =H51*H52 -> -4829065.1
A55: =+A53+1 -> 28 | B55: Total Accumulated Depreciation | F55: ="(Lines "&A46&" + "&A53&")" -> (Lines 21 + 27) | H55: =+H46+H53 -> -2.4394047e+08
A57: =+A55+1 -> 29 | B57: Total Net Plant in Service | F57: ="(Line "&A42&" - Line "&A55&")" -> (Line 20 - Line 28) | H57: =H42+H55 -> 4.2743888e+08
A59: Adjustments To Rate Base
...

Sheet 1A - ADIT Current Year
B1: =+'Appendix A'!A3 -> Dayton Power and Light
B2: ATTACHMENT H-15A
B3: Attachment 1A - Accumulated Deferred Income Taxes (ADIT) Worksheet - Projected December 31, 2023
D5: Only
D6: Transmission | E6: Plant | F6: Labor | H6: Total
D7: Related | E7: Related | F7: Related | H7: ADIT
A9: 1 | C9: ADIT-190 w/o prorated items | D9: =+E45 -> 0 | E9: =+F45 -> 20993387 | F9: =+G45 -> 6371862.9 | I9: ="(Line "&A45&")" -> (Line 26)
A10: =+A9+1 -> 2 | C10: ADIT-282 w/o prorated items | D10: =+E64 -> -7035859 | E10: =+F64 -> 0 | F10: =+G64 -> -6828963.8 | I10: ="(Line "&A64&")" -> (Line 29)
A11: =+A10+1 -> 3 | C11: ADIT-283 w/o prorated items | D11: =+E92 -> 0 | E11: =+F92 -> 0 | F11: =+G92 -> 0 | I11: ="(Line "&A92&")" -> (Line 40)
A12: =+A11+1 -> 4 | C12: Subtotal | D12: =+SUM(D9:D11) -> -7035859 | E12: =+SUM(E9:E11) -> 20993387 | F12: =+SUM(F9:F11) -> -457100.84 | I12: ="(Line "&A9&" + Line "&A10&" + Line "&A11&")" -> (Line 1 + Line 2 + Line 3)
A13: =+A12+1 -> 5 | C13: Wages & Salary Allocator | F13: ='Appendix A'!H16 -> 0.11010683 | I13: ="(Appendix A, Line "&'Appendix A'!A16&")" -> (Appendix A, Line 5)
A14: =+A13+1 -> 6 | C14: Net Plant Allocator | E14: ='Appendix A'!H27 -> 0.2471323 | I14: ="(Appendix A, Line "&'Appendix A'!A27&")" -> (Appendix A, Line 12)
A15: =+A14+1 -> 7 | C15: End of Year ADIT | D15: =+D12 -> -7035859 | E15: =+E14*E12 -> 5188143.9 | F15: =+F13*F12 -> -50329.926 | H15: =SUM(D15:F15) -> -1898044.9 | I15: ="(Line "&A12&" * Line "&A13&" or Line "&A14&")" -> (Line 4 * Line 5 or Line 6)
A16: =+A15+1 -> 8 | C16: End of Previous Year ADIT (from 1C - ADIT Prior Year) | D16: =+'1C - ADIT Prior Year'!D15 -> -4609191 | E16: =+'1C - ADIT Prior Year'!E15 -> 0 | F16: =+'1C - ADIT Prior Year'!F15 -> -671706.18 | H16: =SUM(D16:F16) -> -5280897.2 | I16: ="(Attachment 1C - ADIT Prior Year, Line "&A15&")" -> (Attachment 1C - ADIT Prior Year, Line 7)
A17: =+A16+1 -> 9 | C17: Average Beginning and End of Year - Nonprorated Items | D17: =(D15+D16)/2 -> -5822525 | E17: =(E15+E16)/2 -> 2594072 | F17: =(F15+F16)/2 -> -361018.06 | H17: =SUM(D17:F17) -> -3589471.1 | I17: ="(Average of Line "&A15&" + Line "&A16&")" -> (Average of Line 7 + Line 8)
A18: =+A17+1 -> 10 | C18: ADIT-282 - Prorated Items | D18: =+'1B - ADIT Proration'!J24 -> 0 | E18: =+'1B - ADIT Proration'!N24 -> 0 | F18: =+'1B - ADIT Proration'!R24 -> 0 | H18: =+'1E - ADIT True-Up Proration'!Q27 -> -35244547 | I18: ="(Attachment 1B, Line "&'1B - ADIT Proration'!A24&" or Attachment 1D, Line "&'1E - ADIT True-Up Proration'!A27&")" -> (Attachment 1B, Line 14 or Attachment 1D, Line 13) | J18: X
A19: =+A18+1 -> 11 | C19: Total ADIT | D19: =+D17+D18 -> -5822525 | E19: =+E17+E18 -> 2594072 | F19: =+F17+F18 -> -361018.06 | H19: =+H17+H18 -> -38834018 | I19: ="(Line "&A17&" + Line "&A18&")" -> (Line 9 + Line 10)
B23: Items that are not prorated are below. Debit amounts are shown as positive and credit amounts are shown as negative.
B25: In filling out this attachment, a full and complete description of each item and justification for the allocation to Columns C-F and each separate ADIT item will be listed,
B26: dissimilar items with amounts exceeding $100,000 will be listed separately;
B28: A | C28: B | D28: C | E28: D | F28: E | G28: F | I28: G
B29: ADIT-190 | E29: Transmission | F29: Plant | G29: Labor
C30: Total | D30: Excluded | E30: Related | F30: Related | G30: Related | I30: Justification
A31: =+A19+1 -> 12 | B31: Vacation Pay | C31: =+SUM(D31:G31) -> 622214.7 | D31: 0 | E31: 0 | F31: 0 | G31: 622214.7 | I31: Book estimate accrued and expensed - tax deduction when paid.
A32: =+A31+1 -> 13 | B32: Post-retirement Benefits - FAS 106 | C32: =+SUM(D32:G32) -> 2549102.6 | D32: 0 | E32: 0 | F32: 0 | G32: 2549102.6 | I32: FAS 106 - Post Retirement Benefits Obligation
A33: =+A32+1 -> 14 | B33: Deferred Compensation | C33: =+SUM(D33:G33) -> 486008.98 | D33: 0 | E33: 0 | F33: 0 | G33: 486008.98 | I33: Book estimate accrued and expensed - tax deduction when paid.
A34: =+A33+1 -> 15 | B34: Federal Taxes Deferred - FAS 109 | C34: =+SUM(D34:G34) -> 41761.03 | D34: 41761.03 | E34: 0 | F34: 0 | G34: 0 | I34: FAS 109 - primarily associated with items previously flowed through due to regulation. Removed below.
A35: =+A34+1 -> 16 | B35: Union Disability | C35: =+SUM(D35:G35) -> 641377.29 | D35: 0 | E35: 0 | F35: 0 | G35: 641377.29 | I35: Reversal for book reserves for employee disability, and medical reserves - tax deduction when paid
A36: =+A35+1 -> 17 | B36: Federal Deferred Tax on Future Tax Impacts | C36: =+SUM(D36:G36) -> 0 | D36: 0 | E36: 0 | F36: 0 | G36: 0 | I36: FIN 48 deferred tax offsets to reflect tax position uncertainties.
A37: =+A36+1 -> 18 | B37: Employee Stock Plans | C37: =+SUM(D37:G37) -> 74062.35 | D37: 0 | E37: 0 | F37: 0 | G37: 74062.35 | I37: Book estimate accrued and expensed - tax deduction when paid
A38: =+A37+1 -> 19 | B38: Bad Debt Expense | C38: =+SUM(D38:G38) -> 749173.33 | D38: 749173.33 | E38: 0 | F38: 0 | G38: 0 | I38: Reversal of book reserve and tax deduction for actual bad debt charge offs
A39: =+A38+1 -> 20 | B39: State Income Taxes | C39: =+SUM(D39:G39) -> 0 | D39: 0 | E39: 0 | F39: 0 | G39: 0 | I39: State and local taxes accrued on the listed temporary differences
A40: =+A39+1 -> 21 | B40: Capitalized Interest Income | C40: =+SUM(D40:G40) -> 1279098.6 | D40: 0 | E40: 0 | F40: 0 | G40: 1279098.6 | I40: Tax capitalized interest on certain pollution control bonds
A41: =+A40+1 -> 22 | B41: Net Operating Loss | C41: =+SUM(D41:G41) -> 20993387 | D41: 0 | E41: 0 | F41: 20993387 | G41: 0 | I41: Deferred taxes a CAT (Commercial Activities Tax similar to a gross receipts tax) credit | J41: X
A42: =+A41+1 -> 23 | B42: Other | C42: =+C43-SUM(C31:C41) -> 719997.93 | D42: 0 | E42: 0 | F42: 0 | G42: 719998.33 | I42: Miscellaneous book tax differences
A43: =+A42+1 -> 24 | B43: Subtotal - p234 | C43: 28156184 | D43: =SUM(D31:D42) -> 790934.36 | E43: =SUM(E31:E42) -> 0 | F43: =SUM(F31:F42) -> 20993387 | G43: =SUM(G31:G42) -> 6371862.9
A44: =+A43+1 -> 25 | B44: Less FASB 109 Above if not separately removed | C44: =SUM(D44:G44) -> 41761.03 | D44: =D34 -> 41761.03 | E44: =E34 -> 0 | F44: =F34 -> 0 | G44: =G34 -> 0 | I44: All FAS 109 items excluded from formula rate
A45: =+A44+1 -> 26 | B45: Total | C45: =+C43-C44 -> 28114423 | D45: =+D43-D44 -> 749173.33 | E45: =+E43-E44 -> 0 | F45: =+F43-F44 -> 20993387 | G45: =+G43-G44 -> 6371862.9
B46: Instructions for Account 190:
B47: 1. ADIT items related to Non-Electric Operations or which are not significant are excluded and directly assigned to Column C
...

Sheet 1B - ADIT Proration
H1: Dayton Power and Light
H2: Attachment H-15A
H3: Attachment 1B - Accumulated Deferred Income Taxes - Prorated Projection - December 31, 2023
B4: Not used for actual ATRR calculations
B5: Debit amounts are shown as positive and credit amounts are shown as negative.
B6: Rate Year = 2023
B7: Account 282
B8: (a) | C8: (b) | D8: (c) | E8: (d) | F8: (e) | G8: (f) | H8: (g) | I8: (h) | J8: (i) | K8: (j) | L8: (k) | M8: (l) | N8: (m) | O8: (n) | P8: (o) | Q8: (p) | R8: (q) | S8: (v)
B9: Beginning Balance & Monthly Changes | C9: Year | D9: Days in the Month | E9: Number of Days Remaining in Year After Current Month | F9: Total Days in the Projected Rate Year | G9: Weighting for Projection | H9: Beginning Balance/ Monthly Amount/ Ending Balance | I9: Transmission | J9: Transmission Proration (d) x (f) | K9: Plant Related | L9: Net Plant Allocator | M9: Plant Allocation | N9: Plant Proration (f) x (l) | O9: Labor Related | P9: Wage and Salary Allocator | Q9: Labor Allocation | R9: Labor Proration (f) x (p) | S9: Total Transmission Prorated Amount
A11: 1 | B11: December 31st balance Prorated Items (FF1 274.2.b less non Prorated Items) | C11: 0 | G11: =365/365 -> 1 | H11: =+J11+N11+R11 -> 0 | I11: 0 | J11: =G11*I11 -> 0 | K11: 0 | L11: =+'Appendix A'!$H$27 -> 0.2471323 | M11: =+K11*L11 -> 0 | N11: =+G11*M11 -> 0 | O11: 0 | P11: =+'Appendix A'!$H$16 -> 0.11010683 | Q11: =+O11*P11 -> 0 | R11: =+G11*Q11 -> 0 | S11: =+J11+N11+R11 -> 0
A12: =+A11+1 -> 2 | B12: January | C12: 0 | D12: 31 | E12: =E13+D13 -> 335 | F12: =SUM(D12:D23) -> 365 | G12: =335/365 -> 0.91780822 | H12: =+J12+N12+R12 -> 0 | I12: 0 | J12: =G12*I12 -> 0 | K12: 0 | L12: =+'Appendix A'!$H$27 -> 0.2471323 | M12: =+K12*L12 -> 0 | N12: =+G12*M12 -> 0 | O12: 0 | P12: =+'Appendix A'!$H$16 -> 0.11010683 | Q12: =+O12*P12 -> 0 | R12: =+G12*Q12 -> 0 | S12: =+J12+N12+R12 -> 0
A13: =+A12+1 -> 3 | B13: February | C13: =+$C$12 -> 0 | D13: 28 | E13: =E14+D14 -> 307 | F13: =F12 -> 365 | G13: =307/365 -> 0.84109589 | H13: =+J13+N13+R13 -> 0 | I13: =$I$12 -> 0 | J13: =G13*I13 -> 0 | K13: 0 | L13: =+'Appendix A'!$H$27 -> 0.2471323 | M13: =+K13*L13 -> 0 | N13: =+G13*M13 -> 0 | O13: 0 | P13: =+'Appendix A'!$H$16 -> 0.11010683 | Q13: =+O13*P13 -> 0 | R13: =+G13*Q13 -> 0 | S13: =+J13+N13+R13 -> 0
A14: =+A13+1 -> 4 | B14: March | C14: =+$C$12 -> 0 | D14: 31 | E14: =E15+D15 -> 276 | F14: =F13 -> 365 | G14: =276/365 -> 0.75616438 | H14: =+J14+N14+R14 -> 0 | I14: =$I$12 -> 0 | J14: =G14*I14 -> 0 | K14: 0 | L14: =+'Appendix A'!$H$27 -> 0.2471323 | M14: =+K14*L14 -> 0 | N14: =+G14*M14 -> 0 | O14: 0 | P14: =+'Appendix A'!$H$16 -> 0.11010683 | Q14: =+O14*P14 -> 0 | R14: =+G14*Q14 -> 0 | S14: =+J14+N14+R14 -> 0
A15: =+A14+1 -> 5 | B15: April | C15: =+$C$12 -> 0 | D15: 30 | E15: =E16+D16 -> 246 | F15: =F14 -> 365 | G15: =246/365 -> 0.6739726 | H15: =+J15+N15+R15 -> 0 | I15: =$I$12 -> 0 | J15: =G15*I15 -> 0 | K15: 0 | L15: =+'Appendix A'!$H$27 -> 0.2471323 | M15: =+K15*L15 -> 0 | N15: =+G15*M15 -> 0 | O15: 0 | P15: =+'Appendix A'!$H$16 -> 0.11010683 | Q15: =+O15*P15 -> 0 | R15: =+G15*Q15 -> 0 | S15: =+J15+N15+R15 -> 0
A16: =+A15+1 -> 6 | B16: May | C16: =+$C$12 -> 0 | D16: 31 | E16: =E17+D17 -> 215 | F16: =F15 -> 365 | G16: =215/365 -> 0.5890411 | H16: =+J16+N16+R16 -> 0 | I16: =$I$12 -> 0 | J16: =G16*I16 -> 0 | K16: 0 | L16: =+'Appendix A'!$H$27 -> 0.2471323 | M16: =+K16*L16 -> 0 | N16: =+G16*M16 -> 0 | O16: 0 | P16: =+'Appendix A'!$H$16 -> 0.11010683 | Q16: =+O16*P16 -> 0 | R16: =+G16*Q16 -> 0 | S16: =+J16+N16+R16 -> 0
A17: =+A16+1 -> 7 | B17: June | C17: =+$C$12 -> 0 | D17: 30 | E17: =E18+D18 -> 185 | F17: =F16 -> 365 | G17: =185/365 -> 0.50684932 | H17: =+J17+N17+R17 -> 0 | I17: =$I$12 -> 0 | J17: =G17*I17 -> 0 | K17: 0 | L17: =+'Appendix A'!$H$27 -> 0.2471323 | M17: =+K17*L17 -> 0 | N17: =+G17*M17 -> 0 | O17: 0 | P17: =+'Appendix A'!$H$16 -> 0.11010683 | Q17: =+O17*P17 -> 0 | R17: =+G17*Q17 -> 0 | S17: =+J17+N17+R17 -> 0
A18: =+A17+1 -> 8 | B18: July | C18: =+$C$12 -> 0 | D18: 31 | E18: =E19+D19 -> 154 | F18: =F17 -> 365 | G18: =154/365 -> 0.42191781 | H18: =+J18+N18+R18 -> 0 | I18: =$I$12 -> 0 | J18: =G18*I18 -> 0 | K18: 0 | L18: =+'Appendix A'!$H$27 -> 0.2471323 | M18: =+K18*L18 -> 0 | N18: =+G18*M18 -> 0 | O18: 0 | P18: =+'Appendix A'!$H$16 -> 0.11010683 | Q18: =+O18*P18 -> 0 | R18: =+G18*Q18 -> 0 | S18: =+J18+N18+R18 -> 0
A19: =+A18+1 -> 9 | B19: August | C19: =+$C$12 -> 0 | D19: 31 | E19: =E20+D20 -> 123 | F19: =F18 -> 365 | G19: =123/365 -> 0.3369863 | H19: =+J19+N19+R19 -> 0 | I19: =$I$12 -> 0 | J19: =G19*I19 -> 0 | K19: 0 | L19: =+'Appendix A'!$H$27 -> 0.2471323 | M19: =+K19*L19 -> 0 | N19: =+G19*M19 -> 0 | O19: 0 | P19: =+'Appendix A'!$H$16 -> 0.11010683 | Q19: =+O19*P19 -> 0 | R19: =+G19*Q19 -> 0 | S19: =+J19+N19+R19 -> 0
A20: =+A19+1 -> 10 | B20: September | C20: =+$C$12 -> 0 | D20: 30 | E20: =E21+D21 -> 93 | F20: =F19 -> 365 | G20: =93/365 -> 0.25479452 | H20: =+J20+N20+R20 -> 0 | I20: =$I$12 -> 0 | J20: =G20*I20 -> 0 | K20: 0 | L20: =+'Appendix A'!$H$27 -> 0.2471323 | M20: =+K20*L20 -> 0 | N20: =+G20*M20 -> 0 | O20: 0 | P20: =+'Appendix A'!$H$16 -> 0.11010683 | Q20: =+O20*P20 -> 0 | R20: =+G20*Q20 -> 0 | S20: =+J20+N20+R20 -> 0
A21: =+A20+1 -> 11 | B21: October | C21: =+$C$12 -> 0 | D21: 31 | E21: =E22+D22 -> 62 | F21: =F20 -> 365 | G21: =62/365 -> 0.16986301 | H21: =+J21+N21+R21 -> 0 | I21: =$I$12 -> 0 | J21: =G21*I21 -> 0 | K21: 0 | L21: =+'Appendix A'!$H$27 -> 0.2471323 | M21: =+K21*L21 -> 0 | N21: =+G21*M21 -> 0 | O21: 0 | P21: =+'Appendix A'!$H$16 -> 0.11010683 | Q21: =+O21*P21 -> 0 | R21: =+G21*Q21 -> 0 | S21: =+J21+N21+R21 -> 0
A22: =+A21+1 -> 12 | B22: November | C22: =+$C$12 -> 0 | D22: 30 | E22: =E23+D23 -> 32 | F22: =F21 -> 365 | G22: =32/365 -> 0.087671233 | H22: =+J22+N22+R22 -> 0 | I22: =$I$12 -> 0 | J22: =G22*I22 -> 0 | K22: 0 | L22: =+'Appendix A'!$H$27 -> 0.2471323 | M22: =+K22*L22 -> 0 | N22: =+G22*M22 -> 0 | O22: 0 | P22: =+'Appendix A'!$H$16 -> 0.11010683 | Q22: =+O22*P22 -> 0 | R22: =+G22*Q22 -> 0 | S22: =+J22+N22+R22 -> 0
A23: =+A22+1 -> 13 | B23: December | C23: =+$C$12 -> 0 | D23: 31 | E23: 1 | F23: =F22 -> 365 | G23: =1/365 -> 0.002739726 | H23: =+J23+N23+R23 -> 0 | I23: =$I$12 -> 0 | J23: =G23*I23 -> 0 | K23: 0 | L23: =+'Appendix A'!$H$27 -> 0.2471323 | M23: =+K23*L23 -> 0 | N23: =+G23*M23 -> 0 | O23: 0 | P23: =+'Appendix A'!$H$16 -> 0.11010683 | Q23: =+O23*P23 -> 0 | R23: =+G23*Q23 -> 0 | S23: =+J23+N23+R23 -> 0
A24: =+A23+1 -> 14 | B24: Prorated Balance | D24: =+SUM(D12:D23) -> 365 | H24: =+J24+N24+R24 -> 0 | I24: =SUM(I11:I23) -> 0 | J24: =SUM(J11:J23) -> 0 | K24: =SUM(K11:K23) -> 0 | N24: =SUM(N11:N23) -> 0 | O24: =SUM(O11:O23) -> 0 | R24: =SUM(R11:R23) -> 0 | S24: =+J24+N24+R24 -> 0
B27: Note: In the projected ATRR and the ATU Adjustment, the calculations of ADIT amounts resulting from liberalized depreciations are performed in accordance with the proration requirements of Treasury Regulation Section 1.167(l)-1(h)(6).

Sheet 1C - ADIT Prior Year
B1: =+'Appendix A'!A3 -> Dayton Power and Light
B2: =+'1A - ADIT Current Year'!B2:I2 -> ATTACHMENT H-15A
B3: Attachment 1C - Accumulated Deferred Income Taxes (ADIT) Worksheet - December 31 of Prior Year
D5: Only
D6: Transmission | E6: Plant | F6: Labor | H6: Total
D7: Related | E7: Related | F7: Related | H7: ADIT
A9: 1 | C9: ADIT-190 | D9: =+E40 -> 0 | E9: =+F40 -> 0 | F9: =+G40 -> 1944004 | I9: ="(Line "&A40&")" -> (Line 22)
A10: =+A9+1 -> 2 | C10: ADIT- 282 | D10: =+E61 -> -4609191 | E10: =+F61 -> 0 | F10: =+G61 -> -8958530 | I10: ="(Line "&A61&")" -> (Line 25)
A11: =+A10+1 -> 3 | C11: ADIT-283 | D11: =+E87 -> 0 | E11: =+F87 -> 0 | F11: =+G87 -> 914031 | I11: ="(Line "&A87&")" -> (Line 36)
A12: =+A11+1 -> 4 | C12: Subtotal | D12: =+SUM(D9:D11) -> -4609191 | E12: =+SUM(E9:E11) -> 0 | F12: =+SUM(F9:F11) -> -6100495 | I12: ="(Line "&A9&" + Line "&A10&" + "&A11&")" -> (Line 1 + Line 2 + 3)
A13: =+A12+1 -> 5 | C13: Wages & Salary Allocator | F13: ='Appendix A'!H16 -> 0.11010683 | I13: ="(Appendix A, Line "&'Appendix A'!A16&")" -> (Appendix A, Line 5)
A14: =+A13+1 -> 6 | C14: Net Plant Allocator | E14: ='Appendix A'!H27 -> 0.2471323 | I14: ="(Appendix A, Line "&'Appendix A'!A27&")" -> (Appendix A, Line 12)
A15: =+A14+1 -> 7 | C15: End of Year ADIT | D15: =+D12 -> -4609191 | E15: =+E14*E12 -> 0 | F15: =+F13*F12 -> -671706.18 | H15: =SUM(D15:G15) -> -5280897.2 | I15: ="(Line "&A12&" * Line "&A13&" or Line "&A14&")" -> (Line 4 * Line 5 or Line 6)
B17: Contains all ADIT Items - Prorated and Nonprorated. Debit amounts are shown as positive and credit amounts are shown as negative.
B19: In filling out this attachment, a full and complete description of each item and justification for the allocation to Columns C-F and each separate ADIT item will be listed,
B20: dissimilar items with amounts exceeding $100,000 will be listed separately;
B22: A | C22: B | D22: C | E22: D | F22: E | G22: F | I22: G
C23: Total | E23: Only
B24: ADIT-190 | E24: Transmission | F24: Plant | G24: Labor
D25: Excluded | E25: Related | F25: Related | G25: Related | I25: Justification
A26: =+A15+1 -> 8 | B26: Vacation Pay | C26: =+SUM(D26:G26) -> 570019 | D26: 0 | E26: 0 | F26: 0 | G26: 570019 | I26: Book estimate accrued and expensed - tax deduction when paid.
A27: =+A26+1 -> 9 | B27: Post-retirement Benefits - FAS 106 | C27: =+SUM(D27:G27) -> 0 | E27: 0 | F27: 0 | G27: 0 | I27: FAS 106 - Post Retirement Benefits Obligation
A28: =+A27+1 -> 10 | B28: Deferred Compensation | C28: =+SUM(D28:G28) -> 653198 | D28: 0 | E28: 0 | F28: 0 | G28: 653198 | I28: Book estimate accrued and expensed - tax deduction when paid.
A29: =+A28+1 -> 11 | B29: Federal Taxes Deferred - FAS 109 | C29: =+SUM(D29:G29) -> 11612 | D29: 11612 | E29: 0 | F29: 0 | G29: 0 | I29: FAS 109 - primarily associated with items previously flowed through due to regulation. Removed below.
A30: =+A29+1 -> 12 | B30: Union Disability | C30: =+SUM(D30:G30) -> 636527 | D30: 0 | E30: 0 | F30: 0 | G30: 636527 | I30: Reversal for book reserves for employee disability, and medical reserves - tax deduction when paid
A31: =+A30+1 -> 13 | B31: Federal Deferred Tax on Future Tax Impacts | C31: =+SUM(D31:G31) -> 0 | D31: 0 | E31: 0 | F31: 0 | G31: 0 | I31: FIN 48 deferred tax offsets to reflect tax position uncertainties
A32: =+A31+1 -> 14 | B32: Employee Stock Plans | C32: =+SUM(D32:G32) -> 84260 | D32: 0 | E32: 0 | F32: 0 | G32: 84260 | I32: Book estimate accrued and expensed - tax deduction when paid
A33: =+A32+1 -> 15 | B33: Bad Debt Expense | C33: =+SUM(D33:G33) -> 687952 | D33: 687952 | E33: 0 | F33: 0 | G33: 0 | I33: Reversal of book reserve and tax deduction for actual bad debt charge offs
A34: =+A33+1 -> 16 | B34: State Income Taxes | C34: =+SUM(D34:G34) -> 0 | D34: 0 | E34: 0 | F34: 0 | G34: 0 | I34: State and local taxes accrued on the listed temporary differences
A35: =+A34+1 -> 17 | B35: Capitalized Interest Income | C35: =+SUM(D35:G35) -> 0 | D35: 0 | E35: 0 | F35: 0 | G35: 0 | I35: Tax capitalized interest on certain pollution control bonds
A36: =+A35+1 -> 18 | B36: Deferred Federal Taxes on CAT Tax Credit | C36: =+SUM(D36:G36) -> -205831 | D36: -205831 | E36: 0 | F36: 0 | G36: 0 | I36: Deferred taxes a CAT (Commercial Activities Tax similar to a gross receipts tax) credit
A37: =+A36+1 -> 19 | B37: Other | C37: 2665201 | D37: 2665201 | E37: 0 | F37: 0 | G37: 0 | I37: Miscellaneous book tax differences
A38: =+A37+1 -> 20 | B38: Subtotal - p234 | C38: 5102938 | D38: =SUM(D26:D37) -> 3158934 | E38: =SUM(E26:E37) -> 0 | F38: =SUM(F26:F37) -> 0 | G38: =SUM(G26:G37) -> 1944004
A39: =+A38+1 -> 21 | B39: Less FASB 109 Above if not separately removed | C39: =SUM(D39:G39) -> 11612 | D39: =D29 -> 11612 | E39: =E29 -> 0 | F39: =F29 -> 0 | G39: =G29 -> 0 | I39: =+'1A - ADIT Current Year'!I44 -> All FAS 109 items excluded from formula rate
A40: =+A39+1 -> 22 | B40: Total | C40: =+C38-C39 -> 5091326 | D40: =+D38-D39 -> 3147322 | E40: =+E38-E39 -> 0 | F40: =+F38-F39 -> 0 | G40: =+G38-G39 -> 1944004
B42: Instructions for Account 190:
B43: 1. ADIT items related to Non-Electric Operations or are not significant are excluded and directly assigned to Column C
B44: 2. ADIT items related only to Transmission are directly assigned to Column D
B45: 3. ADIT items related to Plant and not in Columns C & D are included in Column E
B46: 4. ADIT items related to Labor and not in Columns C & D are included in Column F
...

Sheet 1D - ADIT True-up
B3: Dayton Power and Light
B4: ATTACHMENT H-15A
B5: Attachment 1D - Accumulated Deferred Income Taxes for Annual True-up - December 31,
B6: Not used - see 1A-ADIT
D7: Only
D8: Transmission | E8: Plant | F8: Labor | H8: Total
D9: Related | E9: Related | F9: Related | H9: ADIT
A12: =+A11+1 -> 1 | C12: ADIT-190 | D12: =+E47 -> 0 | E12: =+F47 -> 0 | F12: =+G47 -> 0 | I12: ="(Line "&A47&")" -> (Line 26)
A13: =+A12+1 -> 2 | C13: ADIT-282 w/o prorated items | D13: =+E67 -> 0 | E13: =+F67 -> 0 | F13: =+G67 -> 0 | I13: ="(Line "&A67&")" -> (Line 29)
A14: =+A13+1 -> 3 | C14: ADIT-283 | D14: =+E97 -> 0 | E14: =+F97 -> 0 | F14: =+G97 -> 0 | I14: ="(Line "&A97&")" -> (Line 37)
A15: =+A14+1 -> 4 | C15: Subtotal | D15: =SUM(D12:D14) -> 0 | E15: =SUM(E12:E14) -> 0 | F15: =SUM(F12:F14) -> 0 | I15: ="(Line "&A12&" + Line "&A13&" + Line "&A14&")" -> (Line 1 + Line 2 + Line 3)
A16: =+A15+1 -> 5 | C16: Wages & Salary Allocator | F16: =+'Appendix A'!H16 -> 0.11010683 | I16: ="(Appendix A, Line "&'[2]Appendix A'!A16&")" -> (Appendix A, Line 5)
A17: =+A16+1 -> 6 | C17: Net Plant Allocator | E17: =+'Appendix A'!H27 -> 0.2471323 | I17: ="(Appendix A, Line "&'[2]Appendix A'!A27&")" -> (Appendix A, Line 12)
A18: =+A17+1 -> 7 | C18: End of Year ADIT | D18: =+D15 -> 0 | E18: =+E17*E15 -> 0 | F18: =+F16*F15 -> 0 | H18: =+SUM(D18:G18) -> 0 | I18: ="(Line "&A15&" * Line "&A16&" or Line "&A17&")" -> (Line 4 * Line 5 or Line 6)
A19: =+A18+1 -> 8 | C19: End of Previous Year ADIT (from 1C - ADIT Prior Year) | D19: 0 | E19: 0 | F19: 0 | H19: =+SUM(D19:G19) -> 0 | I19: ="(Attachment 1C - ADIT Prior Year, Line "&A18&")" -> (Attachment 1C - ADIT Prior Year, Line 7)
A20: =+A19+1 -> 9 | C20: Average Beginning and End of Year ADIT 283 and 190 | D20: =(D18+D19)/2 -> 0 | E20: =(E18+E19)/2 -> 0 | F20: =(F18+F19)/2 -> 0 | H20: =+SUM(D20:G20) -> 0 | I20: ="(Average of Line "&A18&" + Line "&A19&")" -> (Average of Line 7 + Line 8)
A21: =+A20+1 -> 10 | C21: ADIT-282 - Prorated Items | H21: 0 | I21: ="(Attachment 1E, Line "&'[2]1E - ADIT True-Up Proration'!A27&")" -> (Attachment 1E, Line 13)
A22: =+A21+1 -> 11 | C22: Actual Average and Prorated ADIT Balance | H22: =+H20+H21 -> 0
B24: Items that are not prorated are below. Debit amounts are shown as positive and credit amounts are shown as negative.
B26: In filling out this attachment, a full and complete description of each item and justification for the allocation to Columns B-G and each separate ADIT item will be listed,
B27: dissimilar items with amounts exceeding $100,000 will be listed separately;
B29: A | C29: B | D29: C | E29: D | F29: E | G29: F | I29: G
C30: Total | E30: Only
B31: ADIT-190 | E31: Transmission | F31: Plant | G31: Labor
D32: Excluded | E32: Related | F32: Related | G32: Related | I32: Justification
A33: =+A22+1 -> 12 | B33: Vacation Pay | C33: 0 | D33: 0 | E33: 0 | F33: 0 | G33: =+C33 -> 0
A34: =+A33+1 -> 13 | B34: Post-retirement Benefits - FAS 106 | C34: 0 | D34: 0 | E34: 0 | F34: 0 | G34: 0
A35: =+A34+1 -> 14 | B35: Deferred Compensation | C35: 0 | D35: 0 | E35: 0 | F35: 0 | G35: 0
A36: =+A35+1 -> 15 | B36: Federal Taxes Deferred - FAS 109 | C36: 0 | D36: 0 | E36: 0 | F36: 0 | G36: 0 | I36: FAS 109 - primarily associated with items previously flowed through due to regulation. Removed below.
A37: =+A36+1 -> 16 | B37: Union Disability | C37: 0 | D37: 0 | E37: 0 | F37: 0 | G37: 0
A38: =+A37+1 -> 17 | B38: Federal Deferred Tax on Future Tax Impacts | C38: 0 | D38: 0 | E38: 0 | F38: 0 | G38: 0
A39: =+A38+1 -> 18 | B39: Employee Stock Plans | C39: 0 | D39: 0 | E39: 0 | F39: 0 | G39: 0
A40: =+A39+1 -> 19 | B40: Bad Debt Expense | C40: 0 | D40: 0 | E40: 0 | F40: 0 | G40: 0
A41: =+A40+1 -> 20 | B41: State Income Taxes | C41: 0 | D41: 0 | E41: 0 | F41: 0 | G41: 0
A42: =+A41+1 -> 21 | B42: Capitalized Interest Income | C42: 0 | D42: 0 | E42: 0 | F42: 0 | G42: 0
A43: =+A42+1 -> 22 | B43: Deferred Federal Taxes on CAT Tax Credit | C43: 0 | D43: 0 | E43: 0 | F43: 0 | G43: 0
A44: =+A43+1 -> 23 | B44: Other | C44: 0 | D44: 0 | E44: 0 | F44: 0 | G44: 0
A45: =+A44+1 -> 24 | B45: Subtotal - p234 | C45: =SUM(C33:C44) -> 0 | D45: =SUM(D33:D44) -> 0 | E45: =SUM(E33:E44) -> 0 | F45: =SUM(F33:F44) -> 0 | G45: =SUM(G33:G44) -> 0
A46: =+A45+1 -> 25 | B46: Less FASB 109 Above if not separately removed | C46: =SUM(D46:H46) -> 0 | D46: =D36 -> 0 | E46: =+E36 -> 0 | F46: =F36 -> 0 | G46: =+G36 -> 0 | I46: =+'[2]1A - ADIT'!I44 -> All FAS 109 items excluded from formula rate
A47: =+A46+1 -> 26 | B47: Total | C47: =+C45-C46 -> 0 | D47: =+D45-D46 -> 0 | E47: =+E45-E46 -> 0 | F47: =+F45-F46 -> 0 | G47: =+G45-G46 -> 0
...

Sheet 1E - ADIT True-Up Proration
I2: =+'Appendix A'!A3 -> Dayton Power and Light
I3: =+'Appendix A'!A4 -> ATTACHMENT H-15A
I4: Attachment 1D - Accumulated Deferred Income Taxes for Annual True-up - December 31, 2023
B5: Not used in projections - see 1B - ADIT Proration | I5: ADIT Proration
B7: Debit amounts are shown as positive and credit amounts are shown as negative.
B10: Account 282 (Note 1)
B11: Days in Period | H11: Projection - Proration of Projected Deferred Tax Activity | L11: Actual Activity - Proration of Projected Deferred Tax Activity and Averaging of Other Deferred Tax Activity
B12: A | C12: B | D12: C | E12: D | F12: E | H12: F | I12: G | J12: H | L12: I | M12: J | N12: K | O12: L | P12: M | Q12: N
B13: Month | C13: Days in the Month | D13: Number of Days Remaining in Year After Month's Accrual of Deferred Taxes | E13: Total Days in Projected Rate Year (Line 14, Col B) | F13: Proration Percentage (Attachment 1B - Col. C / Col. D) | H13: Projected Monthly Activity | I13: Prorated Amount (E*F) | J13: Prorated Projected Balance (Line 27, H plus G) | L13: Actual Monthly Activity | M13: Difference between projected monthly and actual monthly activity | N13: Preserve proration when actual monthly and projected monthly activity are either both increases or decreases. (See Note 1) | O13: Difference between projected and actual activity when actual and projected activity are either both increases or decreases. (See Note 1) | P13: Actual activity (Col I) when projected activity is an increase while actual activity is a decrease OR projected activity is a decrease while actual activity is an increase. (See Note 1) | Q13: Balance reflecting proration or averaging
A15: 1 | B15: December 31st balance (FF1 274.2.b) | J15: =+W38 -> -34199736 | L15: =+B15 -> December 31st balance (FF1 274.2.b) | Q15: =+J15 -> -34199736 | T15: Filled in below and Col. F
A16: =+A15+1 -> 2 | B16: January | C16: 31 | D16: =D17+C17 -> 335 | E16: =SUM(C16:C27) -> 365 | F16: =335/365 -> 0.91780822 | H16: -188681 | I16: =+H16*F16 -> -173172.97 | J16: =+I16+J15 -> -34372909 | L16: =+N34 -> -187952.73 | M16: =L16-H16 -> 728.27108 | N16: =IF(AND(H16>=0,L16>=0),IF(M16>=0,I16,L16/H16*I16),IF(AND(H16<0,L16<0),IF(M16<0,I16,L16/H16*I16),0)) -> -172504.56 | O16: =IF(AND(H16>=0,L16>=0),IF(M16>=0,M16,0),IF(AND(H16<0,L16<0),IF(M16<0,M16,0),0)) -> 0 | P16: =IF(AND(H16>=0,L16<0),L16,IF(AND(H16<0,L16>=0),L16,0)) -> 0 | Q16: =Q15+N16+(O16+P16)*0.5 -> -34372240
A17: =+A16+1 -> 3 | B17: February | C17: 28 | D17: =D18+C18 -> 307 | E17: =E16 -> 365 | F17: =307/365 -> 0.84109589 | H17: =+H16 -> -188681 | I17: =+H17*F17 -> -158698.81 | J17: =+I17+J16 -> -34531608 | L17: =+N35 -> -187952.73 | M17: =L17-H17 -> 728.27108 | N17: =IF(AND(H17>=0,L17>=0),IF(M17>=0,I17,L17/H17*I17),IF(AND(H17<0,L17<0),IF(M17<0,I17,L17/H17*I17),0)) -> -158086.27 | O17: =IF(AND(H17>=0,L17>=0),IF(M17>=0,M17,0),IF(AND(H17<0,L17<0),IF(M17<0,M17,0),0)) -> 0 | P17: =IF(AND(H17>=0,L17<0),L17,IF(AND(H17<0,L17>=0),L17,0)) -> 0 | Q17: =Q16+N17+(O17+P17)*0.5 -> -34530327
A18: =+A17+1 -> 4 | B18: March | C18: 31 | D18: =D19+C19 -> 276 | E18: =E17 -> 365 | F18: =276/365 -> 0.75616438 | H18: =+H17 -> -188681 | I18: =+H18*F18 -> -142673.85 | J18: =+I18+J17 -> -34674281 | L18: =+N36 -> -187952.73 | M18: =L18-H18 -> 728.27108 | N18: =IF(AND(H18>=0,L18>=0),IF(M18>=0,I18,L18/H18*I18),IF(AND(H18<0,L18<0),IF(M18<0,I18,L18/H18*I18),0)) -> -142123.16 | O18: =IF(AND(H18>=0,L18>=0),IF(M18>=0,M18,0),IF(AND(H18<0,L18<0),IF(M18<0,M18,0),0)) -> 0 | P18: =IF(AND(H18>=0,L18<0),L18,IF(AND(H18<0,L18>=0),L18,0)) -> 0 | Q18: =Q17+N18+(O18+P18)*0.5 -> -34672450
A19: =+A18+1 -> 5 | B19: April | C19: 30 | D19: =D20+C20 -> 246 | E19: =E18 -> 365 | F19: =246/365 -> 0.6739726 | H19: =+H18 -> -188681 | I19: =+H19*F19 -> -127165.82 | J19: =+I19+J18 -> -34801447 | L19: =+N37 -> -187952.73 | M19: =L19-H19 -> 728.27108 | N19: =IF(AND(H19>=0,L19>=0),IF(M19>=0,I19,L19/H19*I19),IF(AND(H19<0,L19<0),IF(M19<0,I19,L19/H19*I19),0)) -> -126674.99 | O19: =IF(AND(H19>=0,L19>=0),IF(M19>=0,M19,0),IF(AND(H19<0,L19<0),IF(M19<0,M19,0),0)) -> 0 | P19: =IF(AND(H19>=0,L19<0),L19,IF(AND(H19<0,L19>=0),L19,0)) -> 0 | Q19: =Q18+N19+(O19+P19)*0.5 -> -34799125
A20: =+A19+1 -> 6 | B20: May | C20: 31 | D20: =D21+C21 -> 215 | E20: =E19 -> 365 | F20: =215/365 -> 0.5890411 | H20: =+H19 -> -188681 | I20: =+H20*F20 -> -111140.86 | J20: =+I20+J19 -> -34912588 | L20: =+N38 -> -187952.73 | M20: =L20-H20 -> 728.27108 | N20: =IF(AND(H20>=0,L20>=0),IF(M20>=0,I20,L20/H20*I20),IF(AND(H20<0,L20<0),IF(M20<0,I20,L20/H20*I20),0)) -> -110711.88 | O20: =IF(AND(H20>=0,L20>=0),IF(M20>=0,M20,0),IF(AND(H20<0,L20<0),IF(M20<0,M20,0),0)) -> 0 | P20: =IF(AND(H20>=0,L20<0),L20,IF(AND(H20<0,L20>=0),L20,0)) -> 0 | Q20: =Q19+N20+(O20+P20)*0.5 -> -34909837
A21: =+A20+1 -> 7 | B21: June | C21: 30 | D21: =D22+C22 -> 185 | E21: =E20 -> 365 | F21: =185/365 -> 0.50684932 | H21: =+H20 -> -188681 | I21: =+H21*F21 -> -95632.836 | J21: =+I21+J20 -> -35008221 | L21: =+N39 -> -187952.73 | M21: =L21-H21 -> 728.27108 | N21: =IF(AND(H21>=0,L21>=0),IF(M21>=0,I21,L21/H21*I21),IF(AND(H21<0,L21<0),IF(M21<0,I21,L21/H21*I21),0)) -> -95263.712 | O21: =IF(AND(H21>=0,L21>=0),IF(M21>=0,M21,0),IF(AND(H21<0,L21<0),IF(M21<0,M21,0),0)) -> 0 | P21: =IF(AND(H21>=0,L21<0),L21,IF(AND(H21<0,L21>=0),L21,0)) -> 0 | Q21: =Q20+N21+(O21+P21)*0.5 -> -35005100
A22: =+A21+1 -> 8 | B22: July | C22: 31 | D22: =D23+C23 -> 154 | E22: =E21 -> 365 | F22: =154/365 -> 0.42191781 | H22: =+H21 -> -188681 | I22: =+H22*F22 -> -79607.874 | J22: =+I22+J21 -> -35087829 | L22: =+N40 -> -187952.73 | M22: =L22-H22 -> 728.27108 | N22: =IF(AND(H22>=0,L22>=0),IF(M22>=0,I22,L22/H22*I22),IF(AND(H22<0,L22<0),IF(M22<0,I22,L22/H22*I22),0)) -> -79300.603 | O22: =IF(AND(H22>=0,L22>=0),IF(M22>=0,M22,0),IF(AND(H22<0,L22<0),IF(M22<0,M22,0),0)) -> 0 | P22: =IF(AND(H22>=0,L22<0),L22,IF(AND(H22<0,L22>=0),L22,0)) -> 0 | Q22: =Q21+N22+(O22+P22)*0.5 -> -35084401
A23: =+A22+1 -> 9 | B23: August | C23: 31 | D23: =D24+C24 -> 123 | E23: =E22 -> 365 | F23: =123/365 -> 0.3369863 | H23: =+H22 -> -188681 | I23: =+H23*F23 -> -63582.912 | J23: =+I23+J22 -> -35151412 | L23: =+N41 -> -187952.73 | M23: =L23-H23 -> 728.27108 | N23: =IF(AND(H23>=0,L23>=0),IF(M23>=0,I23,L23/H23*I23),IF(AND(H23<0,L23<0),IF(M23<0,I23,L23/H23*I23),0)) -> -63337.495 | O23: =IF(AND(H23>=0,L23>=0),IF(M23>=0,M23,0),IF(AND(H23<0,L23<0),IF(M23<0,M23,0),0)) -> 0 | P23: =IF(AND(H23>=0,L23<0),L23,IF(AND(H23<0,L23>=0),L23,0)) -> 0 | Q23: =Q22+N23+(O23+P23)*0.5 -> -35147738
A24: =+A23+1 -> 10 | B24: September | C24: 30 | D24: =D25+C25 -> 93 | E24: =E23 -> 365 | F24: =93/365 -> 0.25479452 | H24: =+H23 -> -188681 | I24: =+H24*F24 -> -48074.885 | J24: =+I24+J23 -> -35199487 | L24: =+N42 -> -187952.73 | M24: =L24-H24 -> 728.27108 | N24: =IF(AND(H24>=0,L24>=0),IF(M24>=0,I24,L24/H24*I24),IF(AND(H24<0,L24<0),IF(M24<0,I24,L24/H24*I24),0)) -> -47889.325 | O24: =IF(AND(H24>=0,L24>=0),IF(M24>=0,M24,0),IF(AND(H24<0,L24<0),IF(M24<0,M24,0),0)) -> 0 | P24: =IF(AND(H24>=0,L24<0),L24,IF(AND(H24<0,L24>=0),L24,0)) -> 0 | Q24: =Q23+N24+(O24+P24)*0.5 -> -35195628
A25: =+A24+1 -> 11 | B25: October | C25: 31 | D25: =D26+C26 -> 62 | E25: =E24 -> 365 | F25: =62/365 -> 0.16986301 | H25: =+H24 -> -188681 | I25: =+H25*F25 -> -32049.923 | J25: =+I25+J24 -> -35231537 | L25: =+N43 -> -187952.73 | M25: =L25-H25 -> 728.27108 | N25: =IF(AND(H25>=0,L25>=0),IF(M25>=0,I25,L25/H25*I25),IF(AND(H25<0,L25<0),IF(M25<0,I25,L25/H25*I25),0)) -> -31926.217 | O25: =IF(AND(H25>=0,L25>=0),IF(M25>=0,M25,0),IF(AND(H25<0,L25<0),IF(M25<0,M25,0),0)) -> 0 | P25: =IF(AND(H25>=0,L25<0),L25,IF(AND(H25<0,L25>=0),L25,0)) -> 0 | Q25: =Q24+N25+(O25+P25)*0.5 -> -35227554
A26: =+A25+1 -> 12 | B26: November | C26: 30 | D26: =D27+C27 -> 32 | E26: =E25 -> 365 | F26: =32/365 -> 0.087671233 | H26: =+H25 -> -188681 | I26: =+H26*F26 -> -16541.896 | J26: =+I26+J25 -> -35248078 | L26: =+N44 -> -187952.73 | M26: =L26-H26 -> 728.27108 | N26: =IF(AND(H26>=0,L26>=0),IF(M26>=0,I26,L26/H26*I26),IF(AND(H26<0,L26<0),IF(M26<0,I26,L26/H26*I26),0)) -> -16478.047 | O26: =IF(AND(H26>=0,L26>=0),IF(M26>=0,M26,0),IF(AND(H26<0,L26<0),IF(M26<0,M26,0),0)) -> 0 | P26: =IF(AND(H26>=0,L26<0),L26,IF(AND(H26<0,L26>=0),L26,0)) -> 0 | Q26: =Q25+N26+(O26+P26)*0.5 -> -35244032
A27: =+A26+1 -> 13 | B27: December | C27: 31 | D27: 1 | E27: =E26 -> 365 | F27: =1/365 -> 0.002739726 | H27: =+H26 -> -188681 | I27: =+H27*F27 -> -516.93425 | J27: =+I27+J26 -> -35248595 | L27: =+N45 -> -187952.73 | M27: =L27-H27 -> 728.27108 | N27: =IF(AND(H27>=0,L27>=0),IF(M27>=0,I27,L27/H27*I27),IF(AND(H27<0,L27<0),IF(M27<0,I27,L27/H27*I27),0)) -> -514.93898 | O27: =IF(AND(H27>=0,L27>=0),IF(M27>=0,M27,0),IF(AND(H27<0,L27<0),IF(M27<0,M27,0),0)) -> 0 | P27: =IF(AND(H27>=0,L27<0),L27,IF(AND(H27<0,L27>=0),L27,0)) -> 0 | Q27: =Q26+N27+(O27+P27)*0.5 -> -35244547
A28: =+A27+1 -> 14 | B28: Total | C28: =SUM(C16:C27) -> 365 | H28: =SUM(H16:H27) -> -2264172 | I28: =SUM(I16:I27) -> -1048859.6 | L28: =SUM(L16:L27) -> -2255432.7 | M28: =SUM(M16:M27) -> 8739.253 | N28: =SUM(N16:N27) -> -1044811.2 | O28: =SUM(O16:O27) -> 0 | P28: =SUM(P16:P27) -> 0
F31: Net Plant | J31: Wage and Salary
C32: Transmission | E32: Plant Related | F32: Allocator | G32: Total | I32: Labor Related | J32: Allocator | L32: Total | N32: Grand Total | P32: Balance at 12/31/22 - T | Q32: -35671885 | T32: 12/31/21 - T | U32: -33808094 | V32: 1 | W32: =+U32*V32 -> -33808094
B33: Actual Monthly Activity
A34: =+A28+1 -> 15 | B34: January | C34: =+($Q$32-$U$32)/12 -> -155315.92 | E34: =+($Q$36-$U$36)/12 -> 0 | F34: =+'Appendix A'!$H$27 -> 0.2471323 | G34: =+E34*F34 -> 0 | I34: =+($Q$34-$U$34)/12 -> -296410.42 | J34: =+'Appendix A'!$H$16 -> 0.11010683 | L34: =+I34*J34 -> -32636.812 | N34: =+C34+G34+L34 -> -187952.73 | P34: Balance at 12/31/22-G | Q34: -10742210 | T34: 12/31/21 - G | U34: -7185285 | V34: =+J34 -> 0.11010683 | W34: =+(Q34-U34)*V34 -> -391641.75
A35: =+A34+1 -> 16 | B35: February | C35: =+($Q$32-$U$32)/12 -> -155315.92 | E35: =+($Q$36-$U$36)/12 -> 0 | F35: =+'Appendix A'!$H$27 -> 0.2471323 | G35: =+E35*F35 -> 0 | I35: =+($Q$34-$U$34)/12 -> -296410.42 | J35: =+'Appendix A'!$H$16 -> 0.11010683 | L35: =+I35*J35 -> -32636.812 | N35: =+C35+G35+L35 -> -187952.73
A36: =+A35+1 -> 17 | B36: March | C36: =+($Q$32-$U$32)/12 -> -155315.92 | E36: =+($Q$36-$U$36)/12 -> 0 | F36: =+'Appendix A'!$H$27 -> 0.2471323 | G36: =+E36*F36 -> 0 | I36: =+($Q$34-$U$34)/12 -> -296410.42 | J36: =+'Appendix A'!$H$16 -> 0.11010683 | L36: =+I36*J36 -> -32636.812 | N36: =+C36+G36+L36 -> -187952.73 | P36: Balance at 12/31/22-P | Q36: 0 | T36: 12/31/21-P | U36: 0 | V36: =+F34 -> 0.2471323 | W36: =+U36*V36 -> 0
A37: =+A36+1 -> 18 | B37: April | C37: =+($Q$32-$U$32)/12 -> -155315.92 | E37: =+($Q$36-$U$36)/12 -> 0 | F37: =+'Appendix A'!$H$27 -> 0.2471323 | G37: =+E37*F37 -> 0 | I37: =+($Q$34-$U$34)/12 -> -296410.42 | J37: =+'Appendix A'!$H$16 -> 0.11010683 | L37: =+I37*J37 -> -32636.812 | N37: =+C37+G37+L37 -> -187952.73
A38: =+A37+1 -> 19 | B38: May | C38: =+($Q$32-$U$32)/12 -> -155315.92 | E38: =+($Q$36-$U$36)/12 -> 0 | F38: =+'Appendix A'!$H$27 -> 0.2471323 | G38: =+E38*F38 -> 0 | I38: =+($Q$34-$U$34)/12 -> -296410.42 | J38: =+'Appendix A'!$H$16 -> 0.11010683 | L38: =+I38*J38 -> -32636.812 | N38: =+C38+G38+L38 -> -187952.73 | T38: Total | W38: =+SUM(W32:W36) -> -34199736
A39: =+A38+1 -> 20 | B39: June | C39: =+($Q$32-$U$32)/12 -> -155315.92 | E39: =+($Q$36-$U$36)/12 -> 0 | F39: =+'Appendix A'!$H$27 -> 0.2471323 | G39: =+E39*F39 -> 0 | I39: =+($Q$34-$U$34)/12 -> -296410.42 | J39: =+'Appendix A'!$H$16 -> 0.11010683 | L39: =+I39*J39 -> -32636.812 | N39: =+C39+G39+L39 -> -187952.73
A40: =+A39+1 -> 21 | B40: July | C40: =+($Q$32-$U$32)/12 -> -155315.92 | E40: =+($Q$36-$U$36)/12 -> 0 | F40: =+'Appendix A'!$H$27 -> 0.2471323 | G40: =+E40*F40 -> 0 | I40: =+($Q$34-$U$34)/12 -> -296410.42 | J40: =+'Appendix A'!$H$16 -> 0.11010683 | L40: =+I40*J40 -> -32636.812 | N40: =+C40+G40+L40 -> -187952.73
A41: =+A40+1 -> 22 | B41: August | C41: =+($Q$32-$U$32)/12 -> -155315.92 | E41: =+($Q$36-$U$36)/12 -> 0 | F41: =+'Appendix A'!$H$27 -> 0.2471323 | G41: =+E41*F41 -> 0 | I41: =+($Q$34-$U$34)/12 -> -296410.42 | J41: =+'Appendix A'!$H$16 -> 0.11010683 | L41: =+I41*J41 -> -32636.812 | N41: =+C41+G41+L41 -> -187952.73
A42: =+A41+1 -> 23 | B42: September | C42: =+($Q$32-$U$32)/12 -> -155315.92 | E42: =+($Q$36-$U$36)/12 -> 0 | F42: =+'Appendix A'!$H$27 -> 0.2471323 | G42: =+E42*F42 -> 0 | I42: =+($Q$34-$U$34)/12 -> -296410.42 | J42: =+'Appendix A'!$H$16 -> 0.11010683 | L42: =+I42*J42 -> -32636.812 | N42: =+C42+G42+L42 -> -187952.73
A43: =+A42+1 -> 24 | B43: October | C43: =+($Q$32-$U$32)/12 -> -155315.92 | E43: =+($Q$36-$U$36)/12 -> 0 | F43: =+'Appendix A'!$H$27 -> 0.2471323 | G43: =+E43*F43 -> 0 | I43: =+($Q$34-$U$34)/12 -> -296410.42 | J43: =+'Appendix A'!$H$16 -> 0.11010683 | L43: =+I43*J43 -> -32636.812 | N43: =+C43+G43+L43 -> -187952.73
A44: =+A43+1 -> 25 | B44: November | C44: =+($Q$32-$U$32)/12 -> -155315.92 | E44: =+($Q$36-$U$36)/12 -> 0 | F44: =+'Appendix A'!$H$27 -> 0.2471323 | G44: =+E44*F44 -> 0 | I44: =+($Q$34-$U$34)/12 -> -296410.42 | J44: =+'Appendix A'!$H$16 -> 0.11010683 | L44: =+I44*J44 -> -32636.812 | N44: =+C44+G44+L44 -> -187952.73
A45: =+A44+1 -> 26 | B45: December | C45: =+($Q$32-$U$32)/12 -> -155315.92 | E45: =+($Q$36-$U$36)/12 -> 0 | F45: =+'Appendix A'!$H$27 -> 0.2471323 | G45: =+E45*F45 -> 0 | I45: =+($Q$34-$U$34)/12 -> -296410.42 | J45: =+'Appendix A'!$H$16 -> 0.11010683 | L45: =+I45*J45 -> -32636.812 | N45: =+C45+G45+L45 -> -187952.73
B48: Note 1: The calculations for accelerated depreciation-related ADIT in the projected net revenue requirement and the ATU Adjustment will be performed in accordance with the proration requirements of Treasury regulation Section 1.167(l)-1(h)(6).
B49: Differences attributable to over-projection of ADIT in the annual projection will result in a proportionate reversal of the projected prorated ADIT activity to the extent of the over-projection.
...

Sheet 2 - Other Taxes
A2: =+'Appendix A'!A3 -> Dayton Power and Light
A3: =+'Appendix A'!A4 -> ATTACHMENT H-15A
A4: Attachment 2 - Taxes Other Than Income - December 31, 2023
A6: Debit amounts are shown as positive and credit amounts are shown as negative.
E8: Page 263 | G8: Allocated
A9: Other Taxes | E9: Col (i) | F9: Allocator | G9: Amount
B11: Direct Assign
A12: 1 | C12: Real Estate | E12: =+'4 - Cost Support'!T117 -> 23297894 | F12: DA | G12: =+E12 -> 23297894 | H12: ="(Attachment 4, Line "&'4 - Cost Support'!A117&")" -> (Attachment 4, Line 41)
A13: =+A12+1 -> 2 | C13: Unused | E13: 0 | F13: DA | G13: =+E13 -> 0
A14: =+A13+1 -> 3 | C14: Unused | E14: 0 | F14: DA | G14: =+E14 -> 0
A15: =+A14+1 -> 4 | B15: Total Direct Assign | E15: =+E12+E13+E14 -> 23297894 | F15: DA | G15: =+E15 -> 23297894
B17: Net Plant Related | E17: Net Plant Allocator
A19: =+A15+1 -> 5 | C19: Unused | E19: 0
A20: =+A19+1 -> 6 | B20: Total Plant Related | E20: =SUM(E19:E19) -> 0 | F20: =+'Appendix A'!H27 -> 0.2471323 | G20: =+E20*F20 -> 0
B22: Labor Related | F22: Wages & Salary Allocator
A24: =+A20+1 -> 7 | C24: FICA | E24: =+'4 - Cost Support'!S118 -> 0
A25: =1+A24 -> 8 | C25: Federal Unemployment | E25: =+'4 - Cost Support'!S119 -> 1015420
A26: =1+A25 -> 9 | C26: Real Estate - General and Intangible | E26: 1448162.1 | H26: See FF1 262 fn
A27: =1+A26 -> 10 | B27: Total Labor Related | E27: =SUM(E24:E26) -> 2463582.1 | F27: =+'Appendix A'!H16 -> 0.11010683 | G27: =+E27*F27 -> 271257.23
A29: =+A27+1 -> 11 | B29: Total Included (Lines 4 + 6 + 10) | E29: =+E15+E20+E27 -> 25761476 | G29: =+G15+G20+G27 -> 23569151
C32: Excluded Transmission Items
A34: =1+A29 -> 12 | C34: kWh Excise - Unbilled | E34: -92452.142
A35: =1+A34 -> 13 | C35: kWh Excise - Billed | E35: 11578644
A36: =1+A35 -> 14 | C36: Federal Income Tax | E36: 1019057.9
A37: =1+A36 -> 15 | C37: Ohio Municipal Income Taxes | E37: 94956.212
A38: =1+A37 -> 16 | C38: Sales and Use Tax | E38: 224434.61
A39: =1+A38 -> 17 | C39: Heavy Vehicle Use Tax | E39: 871.36507
A40: =1+A39 -> 18 | C40: Ohio CAT Tax | E40: 534877.26
A41: =1+A40 -> 19 | C41: Subtotal, Excluded | E41: =SUM(E34:E40) -> 13360389
A43: =1+A41 -> 20 | B43: Total, Included and Excluded (Line 11 + Line 19) | E43: =+E29+E41 -> 39121865
A45: =1+A43 -> 21 | B45: Total Other Taxes from p114.14.k | E45: 37673703
A47: =1+A45 -> 22 | C47: Difference (Line 20 - Line 21) | E47: =+E43-E45 -> 1448162.4 | G47: Real Estate - General and Intangible

Sheet 3 - Revenue Credits
A2: =+'Appendix A'!A3 -> Dayton Power and Light
A3: =+'Appendix A'!A4 -> ATTACHMENT H-15A
A4: Attachment 3 - Revenue Credits - December 31, 2023
A6: Debit amounts are shown as positive and credit amounts are shown as negative.
B10: Account 451 | F10: Comments
A11: 1 | B11: Transmission Related - Direct Assigned | D11: 0 | E11: p300, Footnotes
B13: Account 454 - Rent from Electric Property
A14: =+A11+1 -> 2 | B14: Attachment Fee revenue associated with transmission facilities (Note 2) | D14: 0 | E14: p300, Footnotes
A15: =+A14+1 -> 3 | B15: Right of Way Leases - transmission related (Note 2) | D15: 0 | E15: p300, Footnotes
A16: =+A15+1 -> 4 | B16: Transmission tower licenses for wireless services (Note 2) | D16: -28696 | E16: p300, Footnotes
A17: =+A16+1 -> 5 | B17: Other - transmission-related | D17: 0 | E17: p300, Footnotes
A18: =+A17+1 -> 6 | B18: Total Account 454 | D18: =+SUM(D14:D17) -> -28696
B20: Account 456 - Other Electric Revenues
A21: =+A18+1 -> 7 | B21: DP&L Schedule 1A | D21: -527296 | E21: p300, Footnotes
A22: =+A21+1 -> 8 | B22: Transmission maintenance and consulting services (Note 2) | D22: 0 | E22: p300, Footnotes
A23: =+A22+1 -> 9 | B23: Revenues from Directly Assigned Transmission Facility Charges (Note 1) | D23: 0 | E23: p300, Footnotes
A24: =+A23+1 -> 10 | B24: Licenses for intellectual property (Note 2) | D24: 0 | E24: p300, Footnotes
A25: =+A24+1 -> 11 | B25: Other PJM-related revenues | D25: -90211 | E25: p300, Footnotes
A26: =+A25+1 -> 12 | B26: Total Account 456 | D26: =+SUM(D21:D25) -> -617507
B27: Account 456.1 -Transmission of Electricity for Others
A28: =+A26+1 -> 13 | B28: Net revenues associated with Network Integration Transmission Service (NITS) for which the load is not included in the divisor on Appendix A (difference between NITS credits from PJM and PJM NITS charges paid by Transmission Owner) | D28: 0 | E28: p300, Footnotes
A29: =+A28+1 -> 14 | B29: Point to Point Service revenues for which the load is not included in the divisor in Appendix A (Note 3) | D29: -460973 | E29: p300, Footnotes
A30: =+A29+1 -> 15 | B30: Total Account 456.1 | D30: =+D28+D29 -> -460973
A31: =+A29+1 -> 15 | B31: Gross Revenue Credits | C31: ="(Sum of Lines "&A11&", "&A18&", "&A26&" and "&A30&")" -> (Sum of Lines 1, 6, 12 and 15) | D31: =+D11+D18+D26+D30 -> -1107176
A33: =+A31+1 -> 16 | B33: Less: Sharing of Certain Revenues (Note 2) | D33: =+D37 -> 0
A34: =A33+1 -> 17 | B34: Total Revenue Credits | C34: ="(Line "&A31&" - "&A33&")" -> (Line 15 - 16) | D34: =+D31-D33 -> -1107176
A36: =A34+1 -> 18 | B36: Revenues associated with lines 2, 3, 4, 8 and 10 (Note 2) | C36: ="(Sum of Lines "&A14&" , "&A15&" , "&A16&", "&A22&" and "&A24&")" -> (Sum of Lines 2 , 3 , 4, 8 and 10) | D36: 0
A37: =+A36+1 -> 19 | B37: Revenue Credit | C37: ="(50% of Line "&A36&")" -> (50% of Line 18) | D37: =+D36*0.5 -> 0
A40: Note 1 | B40: Only if the revenue requirement associated with Directly Assigned Transmission Facilities are included in the formula are the associated revenues also included in the formula.
A41: Note 2 | B41: The following revenues, which are derived from new, secondary uses of transmission facilities, are shared equally between customers and DP&L: (1) right-of-way leases and leases for space on transmission facilities for telecommunications; (2) transmission tower licenses for wireless antennas; (3) right-of-way property leases for farming, grazing or nurseries; (4) licenses of intellectual property; and (5) transmission maintenance and consulting services to other utilities and large customers. DP&L will retain 50% of net revenues consistent with Pacific Gas and Electric Company, 90 FERC ¶ 61,314. In order to use lines 13-18, DP&L must track in separate subaccounts the revenues and costs associated with each new, secondary use. There is no sharing of losses and DP&L shall not use portfolio accounting. Any revenues from existing services shall continue to be credit 100% to the ATRR.
A42: Note 3 | B42: DP&L share of Schedule 7, Firm P2P Border Rate revenue

Sheet 4 - Cost Support
A1: Dayton Power and Light
A2: =+'Appendix A'!A4 -> ATTACHMENT H-15A
A3: Attachment 4 - Cost Support - December 31, 2023
A4: Debit amounts are shown as positive and credit amounts are shown as negative.
A6: Plant Investment Support [excludes any Asset Retirement Obligations] | G6: Previous Year | H6: Year
A7: Line #s | B7: Descriptions | E7: FF1 Page # or Instructions | F7: FERC Account | G7: Form 1Dec | H7: Jan | I7: Feb | J7: Mar | K7: Apr | L7: May | M7: Jun | N7: Jul | O7: Aug | P7: Sep | Q7: Oct | R7: Nov | S7: Form 1 Dec | T7: Average | U7: Non-electric Portion
B8: Plant Allocation Factors
A9: 1 | C9: Electric Plant in Service (Excludes Asset Retirement Costs - ARC) | E9: p200.8c | G9: 2845055171 | H9: 2812225084 | I9: 2826022856 | J9: 2893830471 | K9: 2925637178 | L9: 2950665538 | M9: 2952064826 | N9: 2970319736 | O9: 2996112406 | P9: 3026444665 | Q9: 3047463457 | R9: 3073764283 | S9: 3112252391 | T9: =AVERAGE(G9:S9) -> 2956296774 | U9: 0
A10: =+A9+1 -> 2 | C10: Common Plant in Service - Electric | E10: p356 | G10: 0 | H10: 0 | I10: 0 | J10: 0 | K10: 0 | L10: 0 | M10: 0 | N10: 0 | O10: 0 | P10: 0 | Q10: 0 | R10: 0 | S10: 0 | T10: =AVERAGE(G10:S10) -> 0 | U10: 0
A11: =+A10+1 -> 3 | C11: Accumulated Depreciation (Total Electric Plant) | E11: p219.29c | G11: -1223699624 | H11: -1227073700 | I11: -1228958356 | J11: -1227619486 | K11: -1228003082 | L11: -1228665587 | M11: -1216748246 | N11: -1220960781 | O11: -1226324296 | P11: -1225481684 | Q11: -1228514708 | R11: -1232558790 | S11: -1232509910 | T11: =AVERAGE(G11:S11) -> -1.2267014e+09 | U11: 0
A12: =+A11+1 -> 4 | C12: Accumulated Intangible Amortization | E12: p200.21c/derived | G12: -34255398 | H12: -34547837 | I12: -34840276 | J12: -34662475 | K12: -34956461 | L12: -35260327 | M12: -35565132 | N12: -35869958 | O12: -36148932 | P12: -29510715 | Q12: -29939362 | R12: -30357281 | S12: -30795965 | T12: =AVERAGE(G12:S12) -> -33593086 | U12: 0
A13: =+A12+1 -> 5 | C13: Accumulated Common Plant Depreciation - Electric | E13: p356 | G13: 0 | H13: 0 | I13: 0 | J13: 0 | K13: 0 | L13: 0 | M13: 0 | N13: 0 | O13: 0 | P13: 0 | Q13: 0 | R13: 0 | S13: 0 | T13: =AVERAGE(G13:S13) -> 0 | U13: 0
A14: =+A13+1 -> 6 | C14: Accumulated Common Amortization - Electric | E14: p356 | G14: 0 | H14: 0 | I14: 0 | J14: 0 | K14: 0 | L14: 0 | M14: 0 | N14: 0 | O14: 0 | P14: 0 | Q14: 0 | R14: 0 | S14: 0 | T14: =AVERAGE(G14:S14) -> 0 | U14: 0
B16: Plant In Service
A17: =+A14+1 -> 7 | C17: Transmission Plant in Service ( Excludes Asset Retirement Costs - ARC) | E17: p207.58.g | F17: 350-359 | G17: 622647841 | H17: 623829537 | I17: 625627175 | J17: 628330934 | K17: 650248242 | L17: 661602154 | M17: 665959386 | N17: 668197402 | O17: 684311821 | P17: 691120760 | Q17: 690237625 | R17: 696761654 | S17: 694123737 | T17: =AVERAGE(G17:S17) -> 6.617691e+08 | U17: 0
A18: =+A17+1 -> 8 | C18: General ( Excludes Asset Retirement Costs - ARC) | E18: p207.99.g | F18: 389-399 | G18: 35695748 | H18: 35715684 | I18: 35870849 | J18: 35083441 | K18: 35260179 | L18: 35026849 | M18: 32407079 | N18: 33271253 | O18: 33344982 | P18: 34003297 | Q18: 33690567 | R18: 33812460 | S18: 33812460 | T18: =AVERAGE(G18:S18) -> 34384219 | U18: 0
A19: =+A18+1 -> 9 | C19: Intangible - Electric | E19: p205.5.g | F19: 301-303 | G19: 49500382 | H19: 49500382 | I19: 49493741 | J19: 50410292 | K19: 51239903 | L19: 51318717 | M19: 51320562 | N19: 50562575 | O19: 50562575 | P19: 55957046 | Q19: 57061717 | R19: 58805407 | S19: 61926531 | T19: =AVERAGE(G19:S19) -> 52896910 | U19: 0
A20: =+A19+1 -> 10 | C20: Common Plant in Service - Electric | E20: p356 | G20: 0 | H20: 0 | I20: 0 | J20: 0 | K20: 0 | L20: 0 | M20: 0 | N20: 0 | O20: 0 | P20: 0 | Q20: 0 | R20: 0 | S20: 0 | T20: =AVERAGE(G20:S20) -> 0 | U20: 0
B22: Accumulated Depreciation
A23: =+A20+1 -> 11 | C23: Transmission Accumulated Depreciation | E23: p219.25.c | F23: 108 | G23: -242653472 | H23: -242929003 | I23: -243344972 | J23: -239052508 | K23: -239180518 | L23: -236922473 | M23: -237828566 | N23: -239295590 | O23: -241426921 | P23: -236725507 | Q23: -236728154 | R23: -236610713 | S23: -235749862 | T23: =AVERAGE(G23:S23) -> -2.391114e+08 | U23: 0
A24: =+A23+1 -> 12 | C24: Accumulated General Depreciation | E24: p219.28.b | F24: 108 | G24: -10500355 | H24: -10939657 | I24: -11019806 | J24: -11433508 | K24: -11749637 | L24: -11888467 | M24: -9301194 | N24: -9363659 | O24: -9450998 | P24: -9628711 | Q24: -9706796 | R24: -9980908 | S24: -8480142 | T24: =AVERAGE(G24:S24) -> -10264911 | U24: 0
A25: =+A24+1 -> 13 | C25: Accumulated Common Plant Depreciation & Amortization - Electric | E25: p356 | F25: 111 | G25: 0 | H25: 0 | I25: 0 | J25: 0 | K25: 0 | L25: 0 | M25: 0 | N25: 0 | O25: 0 | P25: 0 | Q25: 0 | R25: 0 | S25: 0 | T25: =AVERAGE(G25:S25) -> 0 | U25: 0
A28: Wages & Salary
A29: Line #s | B29: Descriptions | E29: FF1 Page # or Instructions | F29: FERC Account | T29: End of Year
A31: =+A25+1 -> 14 | C31: Total O&M Wage Expense | E31: p354.28b | T31: 58001419
A32: =+A31+1 -> 15 | C32: Total A&G Wages Expense | E32: p354.27b | T32: 15715987
A33: =+A32+1 -> 16 | C33: Transmission Wages | E33: p354.21b | T33: 4655915
A37: Transmission Property Held for Future Use
A38: Line #s | B38: Descriptions | E38: FF1 Page # or Instructions | F38: FERC Account | R38: Beginning Year Balance | S38: End of Year | T38: Average
A40: =+A33+1 -> 17 | C40: Transmission | E40: p214.2.d | F40: 105 | R40: 42369 | S40: 42369 | T40: =+SUM(R40:S40)/2 -> 42369
A44: Prepayments
A45: Line #s | B45: Descriptions | E45: FF1 Page # or Instructions | F45: FERC Account | G45: Form 1Dec | H45: Jan | I45: Feb | J45: Mar | K45: Apr | L45: May | M45: Jun | N45: Jul | O45: Aug | P45: Sep | Q45: Oct | R45: Nov | S45: Form 1 Dec | T45: Average
