Workbook
Name ___INDEX_SHEET___ASAP_Utilities: #REF!
Name ___INDEX_SHEET___ASAP_Utilities: #REF!
Name ___WSH7: #REF!
Name ___WSH7: #REF!
Name __WSH7: #REF!
Name __WSH7: #REF!
Name _1E_1: #N/A
Name _31_Dec_00: #REF!
Name _31_Dec_00: #REF!
Name _31_Jan_01: #REF!
Name _31_Jan_01: #REF!
Name _WSH7: #REF!
Name _WSH7: #REF!
Name Alloc02: #REF!
Name Alloc02: #REF!
Name Alloc03: #REF!
Name Alloc03: #REF!
Name AllocTY: #REF!
Name AllocTY: #REF!
Name Arkansas: #REF!
Name Arkansas: #REF!
Name Balances: #REF!
Name Balances: #REF!
Name CapAlloc: #REF!
Name CapAlloc: #REF!
Name CH_COS: #REF!
Name CH_COS: #REF!
Name CoCode0100: #REF!
Name CoCode0100: #REF!
Name CoCode0200: #REF!
Name CoCode0200: #REF!
Name CoCode0400: #REF!
Name CoCode0400: #REF!
Name CoCode0500: #REF!
Name CoCode0500: #REF!
Name Columns: #REF!
Name Columns: #REF!
Name CONOCO_FAC: #REF!
Name CONOCO_FAC: #REF!
Name cp_by_group: #REF!
Name cp_by_group: #REF!
Name cp_by_serv_level: #REF!
Name cp_by_serv_level: #REF!
Name cp_input_area: #REF!
Name cp_input_area: #REF!
Name Current_sum: #REF!
Name Current_sum: #REF!
Name data_3: #REF!
Name DefaultCopy: #REF!
Name DefaultCopy: #REF!
Name DefaultPaste: #REF!
Name DefaultPaste: #REF!
Name detail: #REF!
Name detail: #REF!
Name dg: #REF!
Name dg: #REF!
Name error: #REF!
Name error: #REF!
Name FED: #REF!
Name FED: #REF!

Sheet Attachment H-30A
J1: Page 1 of 5
B3: Formula Rate - Non-Levelized | D3: Rate Formula Template - Attachment H-30A | J3: For the 12 months ended 12/31/27
D4: Utilizing FERC Form 1 Data
D5: Transource Maryland, LLC
B8: (1) | C8: (2) | D8: (3) | G8: (4) | I8: (5)
A9: Line | I9: Allocated
A10: No. | C10: Source | I10: Amount
A11: 1 | B11: GROSS REVENUE REQUIREMENT, without incentives | C11: (page 3, line 49) | I11: =+I171 -> 1728610.6
B13: REVENUE CREDITS | C13: (Note A) | D13: Total | F13: Allocator
A14: =+A11+1 -> 2 | B14: Account No. 454 | C14: ="(page 4, line "&A210&")" -> (page 4, line 20) | D14: =I210 -> 0 | F14: TP | G14: =$I$189 -> 1 | I14: =+G14*D14 -> 0
A15: =+A14+1 -> 3 | B15: Accounts 456.0 and 456.1 | C15: ="(page 4, line "&A212&")" -> (page 4, line 21) | D15: =+I212 -> 0 | F15: TP | G15: =$I$189 -> 1 | I15: =+G15*D15 -> 0
A16: =+A15+1 -> 4 | B16: Revenues from Grandfathered Interzonal Transactions | C16: (Note B) | D16: 0 | F16: TP | G16: =$I$189 -> 1 | I16: =+G16*D16 -> 0
A17: =+A16+1 -> 5 | B17: Revenues from service provided by the ISO at a discount | D17: 0 | F17: TP | G17: =$I$189 -> 1 | I17: =+G17*D17 -> 0
A18: =+A17+1 -> 6 | B18: TOTAL REVENUE CREDITS | C18: ="(Sum of Lines "&A14&" through "&A17&")" -> (Sum of Lines 2 through 5) | D18: =SUM(D14:D17) -> 0 | I18: =SUM(I14:I17) -> 0
A20: =+A18+1 -> 7 | B20: Prior Period Adjustments | C20: Attachment 11 | D20: =+'11-Corrections'!F30 -> 0 | F20: DA | G20: 1 | I20: =+G20*D20 -> 0
A21: =+A20+1 -> 8 | B21: True-up Adjustment with Interest | C21: ="Attachment 3, line "&'3-Project True-up'!A29&", Col. G+H" -> Attachment 3, line 9, Col. G+H | D21: =(+'3-Project True-up'!I29+'3-Project True-up'!J29) -> 177913.21 | F21: DA | G21: 1 | I21: =+G21*D21 -> 177913.21
A22: =+A21+1 -> 9 | B22: Facility Credits under Section 30.9 of the PJM OATT | C22: Attachment 13 | D22: =+'13 - 30.9 credits'!D8 -> 0 | F22: DA | G22: 1 | I22: =+G22*D22 -> 0
A24: =+A22+1 -> 10 | B24: NET ANNUAL TRANSMISSION REVENUE REQUIREMENT | C24: ="( Line "&A11&" less line "&A18&" plus lines "&A20&","&A21&", and "&A22&")" -> ( Line 1 less line 6 plus lines 7,8, and 9) | I24: =+I11-I18+I20+I21+I22 -> 1906523.8
J54: Page 2 of 5
B56: Formula Rate - Non-Levelized | D56: =+D3 -> Rate Formula Template - Attachment H-30A | J56: =J3 -> For the 12 months ended 12/31/27
D57: Utilizing FERC Form 1 Data
D58: =+D5 -> Transource Maryland, LLC
B60: (1) | C60: (2) | D60: (3) | G60: (4) | I60: (5)
I61: Transmission
A62: Line | C62: Source | D62: Company Total | F62: Allocator | I62: (Col 3 times Col 4)
A63: No. | B63: RATE BASE: (Note R)
B64: GROSS PLANT IN SERVICE | C64: Note C
A65: 1 | B65: Production | C65: 205.46.g for end of year, records for other months | D65: 0 | F65: NA | G65: 0 | I65: =+G65*D65 -> 0
A66: =+A65+1 -> 2 | B66: Transmission | C66: Attachment 4, Line 14, Col. (b) | D66: ='4- Rate Base'!C23 -> 73553.245 | F66: TP | G66: =$I$189 -> 1 | I66: =+G66*D66 -> 73553.245
A67: =+A66+1 -> 3 | B67: Distribution | C67: 207.75.g for end of year, records for other months | D67: 0 | F67: NA | G67: 0 | I67: =+G67*D67 -> 0
A68: =+A67+1 -> 4 | B68: General & Intangible | C68: Attachment 4, Line 14, Col. (c) | D68: ='4- Rate Base'!D23 -> 167791.32 | F68: W/S | G68: =$I$197 -> 1 | I68: =+G68*D68 -> 167791.32
A69: =+A68+1 -> 5 | B69: TOTAL GROSS PLANT | C69: (Sum of Lines 1 through 4) | D69: =SUM(D65:D68) -> 241344.56 | F69: GP= | G69: =IF(I69>0,I69/D69,1) -> 1 | I69: =SUM(I65:I68) -> 241344.56
A71: =+A69+1 -> 6 | B71: ACCUMULATED DEPRECIATION | C71: Note C
A72: =+A71+1 -> 7 | B72: Production | C72: 219.20-24.c for end of year, records for other months | D72: 0 | F72: NA | G72: 0 | I72: =+G72*D72 -> 0
A73: =+A72+1 -> 8 | B73: Transmission | C73: Attachment 4, Line 14, Col. (h) | D73: ='4- Rate Base'!I23 -> 21727.553 | F73: TP | G73: =$I$189 -> 1 | I73: =+G73*D73 -> 21727.553
A74: =+A73+1 -> 9 | B74: Distribution | C74: 219.26.c for end of year, records for other months | D74: 0 | F74: NA | G74: =+G67 -> 0 | I74: =+G74*D74 -> 0
A75: =+A74+1 -> 10 | B75: General & Intangible | C75: Attachment 4, Line 14, Col. (i) | D75: ='4- Rate Base'!J23 -> 133178.03 | F75: W/S | G75: =$I$197 -> 1 | I75: =+G75*D75 -> 133178.03
A76: =+A75+1 -> 11 | B76: TOTAL ACCUM. DEPRECIATION | C76: (Sum of Lines 7 through 10) | D76: =SUM(D72:D75) -> 154905.59 | I76: =SUM(I72:I75) -> 154905.59
A78: =+A76+1 -> 12 | B78: NET PLANT IN SERVICE
A79: =+A78+1 -> 13 | B79: Production | C79: ="(line "&A65&" - line "&A72&")" -> (line 1 - line 7) | D79: =D65-D72 -> 0 | I79: =I65-I72 -> 0
...

Sheet 1-Project Rev Req
K2: Page 1 of 3
F3: Attachment 1
F4: Project Revenue Requirement Worksheet
F5: =+'Attachment H-30A'!D5 -> Transource Maryland, LLC
C8: To be completed in conjunction with Attachment H-30A.
C10: (1) | F10: (2) | I10: (3) | K10: (4)
F11: Attachment H-30A
A12: Line | F12: Page, Line, Col. | I12: Transmission | K12: Allocator
A13: No.
A15: 1 | C15: Gross Transmission Plant plus CWIP | F15: ="Attach H-30A, p 2, line "&'Attachment H-30A'!A66&" col 5 plus line "&'Attachment H-30A'!A92&" col 5 (Note A)" -> Attach H-30A, p 2, line 2 col 5 plus line 25 col 5 (Note A) | I15: =+'Attachment H-30A'!I66+'Attachment H-30A'!I92 -> 15925059
A16: 2 | C16: Net Transmission Plant plus CWIP and Abandoned Plant | F16: ="Attach H-30A, p 2, line "&'Attachment H-30A'!A80&" col 5 plus line "&'Attachment H-30A'!A92&" & "&'Attachment H-30A'!A94&" col 5 (Note B)" -> Attach H-30A, p 2, line 14 col 5 plus line 25 & 27 col 5 (Note B) | I16: =+'Attachment H-30A'!I80+'Attachment H-30A'!I92+'Attachment H-30A'!I94 -> 15903331
C18: O&M EXPENSE
A19: 3 | C19: Total O&M Allocated to Transmission | F19: Attach H-30A, p 3, line 17 col. 5, less line 14 col. 5 | I19: =+'Attachment H-30A'!I134 -> 103808.71
A20: 4 | C20: Annual Allocation Factor for O&M | F20: (line 3 divided by line 1 col 3) | I20: =IF(I19=0,0,+I19/I15) -> 0.0065185762 | K20: =I20 -> 0.0065185762
C22: GENERAL AND INTANGIBLE (G & I) DEPRECIATION EXPENSE
A23: 5 | C23: Total G & I Depreciation Expense | F23: Attach H-30A, p 3, line 20, col 5 (Note C) | I23: =+'Attachment H-30A'!I138 -> 0
A24: 6 | C24: Annual Allocation Factor for G & I Depreciation Expense | F24: (line 5 divided by line 1 col 3) | I24: =IF(I23=0,0,I23/I15) -> 0 | K24: =I24 -> 0
C26: TAXES OTHER THAN INCOME TAXES
A27: 7 | C27: Total Other Taxes | F27: Attach H-30A, p 3, line 32 col 5 | I27: =+'Attachment H-30A'!I151 -> 3000
A28: 8 | C28: Annual Allocation Factor for Other Taxes | F28: (line 7 divided by line 1 col 3) | I28: =IF(I27=0,0,I27/I15) -> 0.00018838235 | K28: =I28 -> 0.00018838235
A30: 9 | C30: Less Revenue Credits | F30: Attach H-30A, p 1, line 6 col 5 | I30: =-'Attachment H-30A'!I18 -> 0
A31: 10 | C31: Annual Allocation Factor for Revenue Credits | F31: (line 9 divided by line 1 col 3) | I31: =IF(I30=0,0,I30/I15) -> 0 | K31: =+I31 -> 0
A33: 11 | C33: Annual Allocation Factor for Expense | F33: Sum of line 4, 6, 8, and 10 | K33: =K20+K24+K28+K31 -> 0.0067069585
C35: INCOME TAXES
A36: 12 | C36: Total Income Taxes | F36: Attach H-30A, p 3, line 46 col 5 | I36: =+'Attachment H-30A'!I166 -> 314746.21
A37: 13 | C37: Annual Allocation Factor for Income Taxes | F37: (line 12 divided by line 2 col 3) | I37: =IF(I16=0,0,I36/I16) -> 0.019791212 | K37: =I37 -> 0.019791212
C39: RETURN
A40: 14 | C40: Return on Rate Base | F40: Attach H-30A, p 3, line 48 col 5 | I40: =+'Attachment H-30A'!I169 -> 1262387.8
A41: 15 | C41: Annual Allocation Factor for Return on Rate Base | F41: (line 14 divided by line 2 col 3) | I41: =IF(I16=0,0,I40/I16) -> 0.079378825 | K41: =I41 -> 0.079378825
A43: 16 | C43: Annual Allocation Factor for Return | F43: Sum of line 13 and 15 | I43: =+I41+I37 -> 0.099170038 | K43: =K37+K41 -> 0.099170038
K47: Page 2 of 3 | U47: Page 3 of 3
F48: =+F3 -> Attachment 1 | P48: =+F48 -> Attachment 1
F49: =+F4 -> Project Revenue Requirement Worksheet | P49: =+F49 -> Project Revenue Requirement Worksheet
F50: =+F5 -> Transource Maryland, LLC | P50: =+F50 -> Transource Maryland, LLC
C52: This worksheet is used to compute project specific revenue requirements for any projects for which such calculation is required by PJM. This will generally include projects with specific incentives or competitive concessions, or projects with regional cost allocation in PJM. Projects will be listed as either Schedule 12, Zonal, or other category defined by PJM. Other projects which comprise the remaining revenue requirement on Attachment H-30A will not be entered on this schedule.
C53: Any hypothetical amounts or project names in a filed template will be removed and replaced with actual amounts in the first year actual values are available without the need for a section 205 filing to modify the template.
C55: -1 | E55: -2 | F55: -3 | G55: -4 | H55: -5 | I55: -6 | J55: -7 | K55: -8 | M55: -9 | N55: -10 | O55: -11 | P55: -12 | Q55: (12a) | R55: -13 | S55: (14) | T55: (15) | U55: (16)
A56: Line No. | C56: Project Name | D56: PJM Category | E56: RTEP Project Number Or Other Identifier | F56: Project Gross Plant | G56: Annual Allocation Factor for Expense | H56: Annual Expense Charge | I56: Project Net Plant | J56: Annual Allocation Factor for Return | K56: Annual Return Charge | L56: Line No. | M56: Project Depreciation/Amortization Expense | N56: Annual Revenue Requirement | O56: Incentive Return in Basis Points | P56: Incentive Return | Q56: Ceiling Rate | R56: Competitive Concession | S56: Total Annual Revenue Requirement | T56: True-Up Adjustment | U56: Net Revenue Requirement
F57: (Note D) | G57: (Page 1 line 11) | H57: (Col. 3 * Col. 4) | I57: (Note E) | J57: (Page 1 line 16) | K57: (Col. 6 * Col. 7) | M57: (Note F) | N57: (Sum Col. 5, 8 & 9) | O57: (Note G) | P57: (Attachment 2, Line 28 Incentive Return * Col. 6) | Q57: (Sum Col. 10 & 12) | R57: (Note H) | S57: (Sum Col. 10 & 12 Less Col. 13) | T57: (Note I) | U57: Sum Col. 14 & 15
A59: 1a | C59: PJM Market Efficiency Project 9A | D59: Schedule 12 | E59: b2743.5, b2752.5 | F59: =+I15 -> 15925059 | G59: =$K$33 -> 0.0067069585 | H59: =F59*G59 -> 106808.71 | I59: =+I16 -> 15903331 | J59: =$K$43 -> 0.099170038 | K59: =I59*J59 -> 1577134 | L59: =+A59 -> 1a | M59: =+'Attachment H-30A'!D137+'Attachment H-30A'!D139 -> 44667.928 | N59: =H59+K59+M59 -> 1728610.6 | O59: 0 | P59: =O59/100*'2-Incentive ROE'!$J$38*I59 -> 0 | Q59: =+N59+P59 -> 1728610.6 | R59: 0 | S59: =+N59+P59-R59 -> 1728610.6 | T59: ='3-Project True-up'!L19 -> 177913.21 | U59: =+S59+T59 -> 1906523.8
...

Sheet 2-Incentive ROE
B1: Attachment 2
B2: Incentive ROE
B3: =+'Attachment H-30A'!D5 -> Transource Maryland, LLC
A5: 1 | B5: Rate Base | C5: ="Attachment H-30A, page 2, line "&'Attachment H-30A'!A105&", Col.5" -> Attachment H-30A, page 2, line 35, Col.5 | J5: =+'Attachment H-30A'!I105 -> 15943415
A7: =+A5+1 -> 2 | B7: 100 Basis Point Incentive Return | I7: $
H8: Cost
D9: Source | E9: $ | F9: % | I9: Weighted
A10: =+A7+1 -> 3 | B10: Long Term Debt | C10: (Notes Q & R from Attachment H-30A) | E10: =+'Attachment H-30A'!D203 -> 9900000 | F10: =+'Attachment H-30A'!E203 -> 0.5 | H10: =+'Attachment H-30A'!G203 -> 0.054358515 | I10: =F10*H10 -> 0.027179258
A11: =+A10+1 -> 4 | B11: Preferred Stock | C11: (Notes Q & R from Attachment H-30A) | E11: =+'Attachment H-30A'!D204 -> 0 | F11: =+'Attachment H-30A'!E204 -> 0 | H11: =+'Attachment H-30A'!G204 -> 0 | I11: =F11*H11 -> 0
A12: =+A11+1 -> 5 | B12: Common Stock | C12: (Notes Q, R, & T from Attachment H-30A) | D12: Cost = Attachment H-30A, page 4, Line 17, Cost plus 100 bp | E12: =+'Attachment H-30A'!D205 -> 9959226.3 | F12: =+'Attachment H-30A'!E205 -> 0.5 | H12: =+'Attachment H-30A'!G205+0.01 -> 0.114 | I12: =F12*H12 -> 0.057
A13: =+A12+1 -> 6 | B13: Total (sum lines 3-5) | E13: =SUM(E10:E12) -> 19859226 | I13: =SUM(I10:I12) -> 0.084179258
A14: =+A13+1 -> 7 | B14: 100 Basis Point Incentive Return multiplied by Rate Base (line 1 * line 6) | J14: =+I13*J5 -> 1342104.8
A16: =+A14+1 -> 8 | B16: INCOME TAXES
A17: =+A16+1 -> 9 | B17: T=1 - {[(1 - SIT) * (1 - FIT)] / (1 - SIT * FIT * p)} = * (1-TEP) | E17: =IF('Attachment H-30A'!D237>0,1-(((1-'Attachment H-30A'!D238)*(1-'Attachment H-30A'!D237))/(1-'Attachment H-30A'!D237*'Attachment H-30A'!D238*'Attachment H-30A'!D239)),0) -> 0.275175
A18: =+A17+1 -> 10 | B18: CIT=(T/1-T) * (1-(WCLTD/R)) = | E18: =IF(I13>0,(E17/(1-E17))*(1-I10/I13),0) -> 0.25706655
A19: =+A18+1 -> 11 | B19: WCLTD = Line 3
A20: =+A19+1 -> 12 | B20: and FIT, SIT & p are as given in Attachment H-30A footnote N.
A21: =+A20+1 -> 13 | B21: =" 1 / (1 - T) = (from line "&A17&")" -> 1 / (1 - T) = (from line 9) | E21: =IF(E17>0,1/(1-E17),0) -> 1.3796434
A22: =+A21+1 -> 14 | B22: Amortized Investment Tax Credit (266.8f) (enter negative) | D22: Attachment H-30A, Page 3, Line 39 | E22: =+'Attachment H-30A'!D159 -> 0
A23: =+A22+1 -> 15 | B23: Excess Deferred Income Taxes (enter negative) | D23: Attachment H-30A, Page 3, Line 40 | E23: =+'Attachment H-30A'!D160 -> 0
A24: =+A23+1 -> 16 | B24: Tax Effect of Permanent Differences (Note B) | D24: Attachment H-30A, Page 3, Line 41 | E24: =+'Attachment H-30A'!D161 -> 0
A25: =+A24+1 -> 17 | B25: ="Income Tax Calculation = line "&A14&" * line "&A18&"" -> Income Tax Calculation = line 7 * line 10 | I25: =+E18*J14 -> 345010.27
A26: =+A25+1 -> 18 | B26: ="ITC adjustment (line "&A21&" * line "&A22&")" -> ITC adjustment (line 13 * line 14) | E26: =+E$21*E22 -> 0 | G26: NP | H26: =+'Attachment H-30A'!G83 -> 1 | I26: =+E26*H26 -> 0
A27: =+A26+1 -> 19 | B27: ="Excess Deferred Income Tax Adjustment (line "&A21&" * line "&A23&")" -> Excess Deferred Income Tax Adjustment (line 13 * line 15) | E27: =+E$21*E23 -> 0 | G27: NP | H27: =H26 -> 1 | I27: =+E27*H27 -> 0
A28: =+A27+1 -> 20 | B28: ="Permanent Differences Tax Adjustment (line "&A21&" * "&A24&")" -> Permanent Differences Tax Adjustment (line 13 * 16) | E28: =+E$21*E24 -> 0 | G28: NP | H28: =H27 -> 1 | I28: =+E28*H28 -> 0
A29: =+A28+1 -> 21 | B29: ="Total Income Taxes (sum lines "&A25&" - "&A28&")" -> Total Income Taxes (sum lines 17 - 20) | I29: =SUM(I25:I28) -> 345010.27 | J29: =+I29 -> 345010.27
A31: =+A29+1 -> 22 | B31: Return and Income Taxes with 100 basis point increase in ROE | D31: ="(line "&A14&" + line "&A29&")" -> (line 7 + line 21) | J31: =+J29+J14 -> 1687115.1
A33: =+A31+1 -> 23 | B33: Return (Attach. H-30A, page 3 line 48 col 5) | J33: =+'Attachment H-30A'!I169 -> 1262387.8
A34: =+A33+1 -> 24 | B34: Income Tax (Attach. H-30A, page 3 line 46 col 5) | J34: =+'Attachment H-30A'!I166 -> 314746.21
A35: =+A34+1 -> 25 | B35: Return and Income Taxes without 100 basis point increase in ROE | D35: ="(line "&A33&" + line "&A34&")" -> (line 23 + line 24) | J35: =SUM(J33:J34) -> 1577134
A36: =+A35+1 -> 26 | B36: Incremental Return and Income Taxes for 100 basis point increase in ROE | D36: ="(line "&A31&" - line "&A35&")" -> (line 22 - line 25) | J36: =+J31-J35 -> 109981.13
A37: =+A36+1 -> 27 | B37: Rate Base (line 1) | J37: =+J5 -> 15943415
A38: =+A37+1 -> 28 | B38: Incremental Return and Income Taxes for 100 basis point increase in ROE divided by Rate Base | J38: =IF(J37=0,0,J36/J37) -> 0.0068982168
A40: Notes:
A41: A | B41: Line 5 includes a 100 basis point increase in ROE that is used only to determine the increase in return and income taxes associated with
B42: a 100 basis point increase in ROE. Any ROE actual incentive must be approved by the Commission.
B43: For example, if the Commission were to grant a 150 basis point ROE incentive, the increase in return and taxes for a 100 basis point
B44: increase in ROE would be multiplied by 1.5 on Attachment 1 column 12.
A45: B | B45: The Tax Effect of Permanent Differences captures the differences in the income taxes due under the Federal and State calculations and the income taxes calculated
B46: in Attachment H-30A that are not the result of a timing difference.
...

Sheet 3-Project True-up
L1: Page 1 of 1
F2: Attachment 3
F3: Formula Rate True-Up
F4: =+'Attachment H-30A'!D5 -> Transource Maryland, LLC
B6: This Attachment 3 is used to calculate the annual formula rate true-up. Any projects for which the RTO requires a true-up on an individual project basis, as shown on Attachment 1, will be computed separately. The remainder of the revenue requirement will also be trued up. The utility will individually enter the projected true-up year revenue requirements in Column C. A percentage of total will be calculated in Column D. Actual revenue received during the true-up year is entered into Column E, line 2 and allocated using the Column D percentage. The utility will prepare this formula rate template with the actual inputs for the true-up year, with the resulting revenue requirement for each line being separately entered in Column F. In Col. G, Col. F is subtracted from Col. E to calculate the true-up adjustment. Interest on the true-up is computed in Column H. Any adjustments to prior period true-ups are entered in Col. I. Col. J computes the total true-up as the sum of Cols. G, H and I.
B7: Any hypothetical amounts or project names in a filed template will be removed and replaced with actual amounts in the first year actual values are available without the need for a section 205 filing to modify the template.
A9: Line: | E9: Projected True-Up Year Revenue | G9: True-Up Year Revenue Received1 | H9: Actual True-Up Year
A10: 1 | B10: True-Up Year | E10: Requirement Calculation | H10: Revenue Req. | I10: Annual True-Up Calculation
A11: 2 | B11: 2025 | G11: 1777490.5
B12: A | D12: B | E12: C | F12: D | G12: E | H12: F | I12: G | J12: H | K12: I | L12: J
F13: % of | G13: Allocation of | J13: True-Up
D14: Project # | F14: Total | G14: Revenue | H14: True-Up | I14: Net | J14: Interest | K14: Prior Period
D15: Or Other | E15: Net Revenue | F15: Revenue | G15: Received | H15: Net Revenue | I15: Under/(Over) | J15: Income | K15: Adjustment with | L15: Total True-Up
B16: Project Name | C16: PJM Category | D16: Identifier | E16: Requirement2 | F16: Requirement | G16: (E, Line 2 ) x (D) | H16: Requirement3 | I16: Collection (F)-(E) | J16: (Expense)4 | K16: Interest 5 | L16: (G) + (H) + (I)
A17: 3 | B17: Remaining Attachment H-30A | E17: 0 | F17: =IF(E$29=0,0,E17/E$29) -> 0 | G17: =IF(G$11=0,0,F17*G$11) -> 0 | H17: 0 | I17: =+H17-G17 -> 0 | J17: =+$J$31*F17 -> 0 | L17: =+I17+J17+K17 -> 0
A19: 4a | B19: PJM Market Efficiency Project 9A | C19: Schedule 12 | D19: b2743.5, b2752.5 | E19: 1972893.3 | F19: =IF(E$29=0,0,E19/E$29) -> 1 | G19: =IF(G$11=0,0,F19*G$11) -> 1777490.5 | H19: 1930676.7 | I19: =+H19-G19 -> 153186.15 | J19: =+$J$31*F19 -> 24727.069 | K19: =D38 -> 0 | L19: =+I19+J19+K19 -> 177913.21
A20: 4b | E20: 0 | F20: =IF(E$29=0,0,E20/E$29) -> 0 | G20: =IF(G$11=0,0,F20*G$11) -> 0 | I20: =+H20-G20 -> 0 | J20: =+$J$31*F20 -> 0 | K20: 0 | L20: =+I20+J20+K20 -> 0
A21: 5 | B21: Total Schedule 12 | E21: =+E19+E20 -> 1972893.3 | G21: =+G19+G20 -> 1777490.5 | H21: =+H19+H20 -> 1930676.7 | I21: =+I19+I20 -> 153186.15 | J21: =+J19+J20 -> 24727.069 | K21: =+K19+K20 -> 0 | L21: =+L19+L20 -> 177913.21
A23: 6a | C23: Zonal | E23: 0 | F23: =IF(E$29=0,0,E23/E$29) -> 0 | G23: =IF(G$11=0,0,F23*G$11) -> 0 | I23: =+H23-G23 -> 0 | J23: =+$J$31*F23 -> 0 | K23: 0 | L23: =+I23+J23+K23 -> 0
A24: 6b | E24: 0 | F24: =IF(E$29=0,0,E24/E$29) -> 0 | G24: =IF(G$11=0,0,F24*G$11) -> 0 | I24: =+H24-G24 -> 0 | J24: =+$J$31*F24 -> 0 | K24: 0 | L24: =+I24+J24+K24 -> 0
A25: 7 | B25: Total Zonal | E25: =+E23+E24 -> 0 | G25: =+G23+G24 -> 0 | H25: =+H23+H24 -> 0 | I25: =+I23+I24 -> 0 | J25: =+J23+J24 -> 0 | K25: =+K23+K24 -> 0 | L25: =+L23+L24 -> 0
A27: =+A25+1 -> 8 | B27: Other
A29: =+A27+1 -> 9 | B29: Total Annual Revenue Requirements | E29: =+E17+E21+E25+E27 -> 1972893.3 | F29: =SUM(F17:F28) -> 1 | G29: =+G17+G21+G25+G27 -> 1777490.5 | H29: =+H17+H21+H25+H27 -> 1930676.7 | I29: =+I17+I21+I25+I27 -> 153186.15 | J29: =+J17+J21+J25+J27 -> 24727.069 | K29: =+K17+K21+K25+K27 -> 0 | L29: =+L17+L21+L25+L27 -> 177913.21
A31: =+A29+1 -> 10 | H31: Total Interest on True-Up - Attachment 6 | J31: =+'6 - True-Up Interest'!I57 -> 24727.069
A34: Prior Period Adjustment
B35: A | D35: B
B36: =+A34 -> Prior Period Adjustment | D36: Adjustment
B37: (Note 5) | C37: Source | D37: Amount
A38: =+A31+1 -> 11 | B38: Description of Adjustment | C38: Attachment 11 | D38: =+'11-Corrections'!F30 -> 0
A41: Notes:
A42: 1) | B42: The revenue received is the total amount of revenue distributed to company in the year as shown on pages 328-330 of the Form No 1. The Revenue Received is input on line 2, Col. E.
A43: 2) | B43: From the Attachment 1, Page 3 of 3, line 1 or 3, col. 16 from the template in which the true-up year revenue requirement was initially projected.
A44: 3) | B44: From True-Up revenue requirement template Attachment 1, page 3 of 3, line 1 or 3, col. 14.
A45: 4) | B45: Interest due on the true up is calculated for the 24 month period from the start of the true-up year until the end of the year following the true-up year when the true up will be included in rates. Total True up Interest calculated on Attachment 6 and allocated to projects based on the percentage in Column D.
A46: 5) | B46: Corrections to true-ups for previous rate years including interest will be computed on Attachment 11 and entered on the appropriate line 3-8 above.

Sheet 4- Rate Base
B1: Attachment 4 | J1: Page 1 of 2
B2: Rate Base Worksheet
B3: =+'Attachment H-30A'!D5 -> Transource Maryland, LLC
C6: Gross Plant In Service | E6: CWIP | F6: LHFFU | G6: Working Capital | I6: Accumulated Depreciation
A7: Line No | B7: Month | C7: Transmission | D7: General & Intangible | E7: CWIP in Rate Base | F7: Held for Future Use | G7: Materials & Supplies | H7: Prepayments | I7: Transmission | J7: General & Intangible
B8: (a) | C8: (b) | D8: (c) | E8: (d) | F8: (e) | G8: (f) | H8: (g) | I8: (h) | J8: (i)
B9: (Note A) | C9: 207.58.g for end of year, records for other months | D9: 205.5.g & 207.99.g for end of year, records for other months | E9: Note B - page 2, column C | F9: 214.c for end of year, records for other months | G9: 227.8.c & 227.16.c for end of year, records for other months | H9: Note J - 111.57.c for end of year, records for other months | I9: 219.25.c for end of year, records for other months | J9: 219.28.c & 200.21.c for end of year, records for other months
A10: 1 | B10: December Prior Year | C10: 64667.938 | D10: 167235.24 | E10: 15003205 | F10: 0 | G10: 0 | H10: 27982.31 | I10: 15729.211 | J10: 117078.97
A11: 2 | B11: January | C11: 67481.34 | D11: 167786.91 | E11: 15017536 | F11: 0 | G11: 0 | H11: 27982.31 | I11: 16628.651 | J11: 119752.7
A12: 3 | B12: February | C12: 69465.702 | D12: 168030.39 | E12: 15287354 | F12: 0 | G12: 0 | H12: 27982.31 | I12: 17575.073 | J12: 122435.61
A13: 4 | B13: March | C13: 70636.389 | D13: 167997.9 | E13: 15575685 | F13: 0 | G13: 0 | H13: 27982.31 | I13: 18554.458 | J13: 125122.59
A14: 5 | B14: April | C14: 71630.392 | D14: 167970.62 | E14: 15597498 | F14: 0 | G14: 0 | H14: 27982.31 | I14: 19553.329 | J14: 127809.02
A15: 6 | B15: May | C15: 72638.777 | D15: 167939.3 | E15: 15710280 | F15: 0 | G15: 0 | H15: 27982.31 | I15: 20568.577 | J15: 130495
A16: 7 | B16: June | C16: 73657.073 | D16: 167905.02 | E16: 15853265 | F16: 0 | G16: 0 | H16: 27982.31 | I16: 21600.708 | J16: 133180.46
A17: 8 | B17: July | C17: 74427.673 | D17: 167873.39 | E17: 16230078 | F17: 0 | G17: 0 | H17: 27982.31 | I17: 22649.776 | J17: 135865.34
A18: 9 | B18: August | C18: 75612.361 | D18: 167826.09 | E18: 16246912 | F18: 0 | G18: 0 | H18: 27982.31 | I18: 23711.639 | J18: 138549.7
A19: 10 | B19: September | C19: 76817.9 | D19: 167774.89 | E19: 16322222 | F19: 0 | G19: 0 | H19: 27982.31 | I19: 24793.212 | J19: 141233.27
A20: 11 | B20: October | C20: 78464.483 | D20: 167706.68 | E20: 16338747 | F20: 0 | G20: 0 | H20: 27982.31 | I20: 25895.012 | J20: 143915.99
A21: 12 | B21: November | C21: 79718.821 | D21: 167649.81 | E21: 16405525 | F21: 0 | G21: 0 | H21: 27982.31 | I21: 27024.162 | J21: 146597.57
A22: 13 | B22: December | C22: 80973.332 | D22: 167590.87 | E22: 16481267 | F22: 0 | G22: 0 | H22: 27982.31 | I22: 28174.374 | J22: 149278.2
A23: 14 | B23: Average of the 13 Monthly Balances | C23: =SUM(C10:C22)/13 -> 73553.245 | D23: =SUM(D10:D22)/13 -> 167791.32 | E23: =SUM(E10:E22)/13 -> 15851506 | F23: =SUM(F10:F22)/13 -> 0 | G23: =SUM(G10:G22)/13 -> 0 | H23: =SUM(H10:H22)/13 -> 27982.31 | I23: =SUM(I10:I22)/13 -> 21727.553 | J23: =SUM(J10:J22)/13 -> 133178.03
C25: Adjustments to Rate Base
A26: Line No | B26: Month | C26: Unamortized Regulatory Asset | D26: Unamortized Abandoned Plant | E26: Account No. 281 Accumulated Deferred Income Taxes (Note E) | F26: Account No. 282 Accumulated Deferred Income Taxes (Note E) | G26: Account No. 283 Accumulated Deferred Income Taxes (Note E) | H26: Account No. 190 Accumulated Deferred Income Taxes (Note E) | I26: Account No. 255 Accumulated Deferred Investment Credit
B27: (a) | C27: (b) | D27: (c) | E27: (d) | F27: (e) | G27: (f) | H27: (g) | I27: (h)
B28: (Note A) | C28: Note C | D28: Note D | E28: Att. 4a & Att. 4b | F28: Att. 4a & Att. 4b | G28: Att. 4a & Att. 4b | H28: Att. 4a & Att. 4b | I28: Consistent with 266.8.b & 267.8.h
A29: 15 | B29: December Prior Year | C29: 0 | D29: 0 | E29: 0 | I29: 0
A30: 16 | B30: January | C30: 0 | D30: 0 | I30: 0
A31: 17 | B31: February | C31: 0 | D31: 0 | I31: 0
A32: 18 | B32: March | C32: 0 | D32: 0 | I32: 0
A33: 19 | B33: April | C33: 0 | D33: 0 | I33: 0
A34: 20 | B34: May | C34: 0 | D34: 0 | I34: 0
A35: 21 | B35: June | C35: 0 | D35: 0 | I35: 0
A36: 22 | B36: July | C36: 0 | D36: 0 | I36: 0
A37: 23 | B37: August | C37: 0 | D37: 0 | I37: 0
A38: 24 | B38: September | C38: 0 | D38: 0 | I38: 0
A39: 25 | B39: October | C39: 0 | D39: 0 | I39: 0
A40: 26 | B40: November | C40: 0 | D40: 0 | I40: 0
A41: 27 | B41: December | C41: 0 | D41: 0 | E41: 0 | I41: 0
A42: 28 | B42: Average of the 13 Monthly Balances | C42: =SUM(C29:C41)/13 -> 0 | D42: =SUM(D29:D41)/13 -> 0 | E42: =(E29+E41)/2 -> 0 | F42: ='4a - ADIT Average Balances'!C75 -> 14652.84 | G42: ='4a - ADIT Average Balances'!C117 -> 6138.8774 | H42: ='4a - ADIT Average Balances'!C156 -> -14696.328 | I42: =SUM(I29:I41)/13 -> 0
E45: =+B1 -> Attachment 4 | J45: Page 2 of 2
...

Sheet 4a - ADIT Average Balances
A1: Worksheet 4a - ADIT Average Balances
A2: Transource Maryland, LLC
A3: For the 12 months ended 12/31/27
J4: Page 1 of 2
B5: I. Account 281 - ADIT - Accelerated Amortization Property
B7: (A) | C7: (B) | D7: (C) | E7: (D) | F7: (E) | G7: (F) | H7: (G) | I7: (H) | J7: (I)
C8: Relevant Year | D8: 100% | E8: 1 | F8: 100% | I8: Total Included
A9: Line | C9: Avg. Balance | D9: Non-Transmission | E9: Related to Facilities | F9: Transmission | G9: Plant | H9: Labor | I9: in Ratebase
A10: No. | B10: Identification | C10: Worksheet 4b | D10: Related | E10: Excluded | F10: Related | G10: Related | H10: Related | I10: (E)+(F)+(G) | J10: Description / Justification
A11: 1
A12: =A11+1 -> 2 | B12: Net Total Property and Accumulated Depreciation | C12: 0 | D12: 0 | E12: 0 | F12: 0 | G12: 0 | H12: 0 | J12: Accumulated deferred income taxes-Accelerated amortization property.
A13: =A12+1 -> 3 | B13: Other | C13: 0 | D13: 0 | E13: 0 | F13: 0 | G13: 0 | H13: 0
A14: =A13+1 -> 4 | C14: 0 | D14: 0 | E14: 0 | F14: 0 | G14: 0 | H14: 0
A15: =A14+1 -> 5 | C15: 0 | D15: 0 | E15: 0 | F15: 0 | G15: 0 | H15: 0
A16: =A15+1 -> 6 | C16: 0 | D16: 0 | E16: 0 | F16: 0 | G16: 0 | H16: 0
A17: =A16+1 -> 7 | C17: 0 | D17: 0 | E17: 0 | F17: 0 | G17: 0 | H17: 0
A18: =A17+1 -> 8 | C18: 0 | D18: 0 | E18: 0 | F18: 0 | G18: 0 | H18: 0
A19: =A18+1 -> 9 | C19: 0 | D19: 0 | E19: 0 | F19: 0 | G19: 0 | H19: 0
A20: =A19+1 -> 10 | C20: 0 | D20: 0 | E20: 0 | F20: 0 | G20: 0 | H20: 0
A21: =A20+1 -> 11 | C21: 0 | D21: 0 | E21: 0 | F21: 0 | G21: 0 | H21: 0
A22: =A21+1 -> 12 | C22: 0 | D22: 0 | E22: 0 | F22: 0 | G22: 0 | H22: 0
A23: =A22+1 -> 13 | C23: 0 | D23: 0 | E23: 0 | F23: 0 | G23: 0 | H23: 0
A24: =A23+1 -> 14 | C24: 0 | D24: 0 | E24: 0 | F24: 0 | G24: 0 | H24: 0
A25: =A24+1 -> 15 | C25: 0 | D25: 0 | E25: 0 | F25: 0 | G25: 0 | H25: 0
... A32: =A31+1 -> 22 | C32: 0 | D32: 0 | E32: 0 | F32: 0 | G32: 0 | H32: 0
A33: =A32+1 -> 23
A34: =A33+1 -> 24 | B34: Subtotal - Form 1, Avg. (272.17.b & 273.17.k) | C34: =SUM(C12:C32) -> 0 | D34: =SUM(D12:D32) -> 0 | E34: =SUM(E12:E32) -> 0 | F34: =SUM(F12:F32) -> 0 | G34: =SUM(G12:G32) -> 0 | H34: =SUM(H12:H32) -> 0
A35: =A34+1 -> 25 | B35: Less FASB 109 Above if not separately removed | C35: =SUM(D35:H35) -> 0 | D35: 0 | E35: 0 | F35: 0 | G35: 0 | H35: 0
A36: =A35+1 -> 26 | B36: Less FASB 106 and Other Excludable Items Above if not separately removed | C36: =SUM(D36:H36) -> 0 | D36: 0 | E36: 0 | F36: 0 | G36: 0 | H36: 0
A37: =A36+1 -> 27 | B37: Less Proration Adjustment (from Worksheet 4c) | C37: ='4c - ADIT Proration'!J127 -> 0 | D37: 0 | E37: 0 | F37: 0 | G37: 0 | H37: 0
A38: =A37+1 -> 28 | B38: ="Total Company (ln "&A34&" - ln "&A35&" - ln "&A36&" + ln "&A37&")" -> Total Company (ln 24 - ln 25 - ln 26 + ln 27) | C38: =+C34-C35-C36+C37 -> 0 | D38: =+D34-D35-D36+D37 -> 0 | E38: =+E34-E35-E36+E37 -> 0 | F38: =+F34-F35-F36+F37 -> 0 | G38: =+G34-G35-G36+G37 -> 0 | H38: =+H34-H35-H36+H37 -> 0
A39: =A38+1 -> 29 | B39: Transmission Allocator [ GP or W/S ] | D39: 0 | E39: 0 | F39: 1 | G39: 1 | H39: 1
A40: =A39+1 -> 30 | B40: ="Total Transmission (ln "&A38&" * ln "&A39&")" -> Total Transmission (ln 28 * ln 29) | D40: =D38*D39 -> 0 | E40: =E38*E39 -> 0 | F40: =F38*F39 -> 0 | G40: =G38*G39 -> 0 | H40: =H38*H39 -> 0 | I40: =SUM(F40:H40) -> 0
B43: II. Account 282 - ADIT - Other Property
B45: =B7 -> (A) | C45: (B) | D45: =D7 -> (C) | E45: =E7 -> (D) | F45: =F7 -> (E) | G45: =G7 -> (F) | H45: =H7 -> (G) | I45: =I7 -> (H) | J45: =J7 -> (I)
C46: Relevant Year | D46: =D8 -> 100% | E46: 1 | F46: =F8 -> 100% | I46: =I8 -> Total Included
A47: Line | C47: Avg. Balance | D47: =D9 -> Non-Transmission | E47: Related to Facilities | F47: =F9 -> Transmission | G47: =G9 -> Plant | H47: =H9 -> Labor | I47: =I9 -> in Ratebase
A48: No. | B48: =B10 -> Identification | C48: Worksheet 4b | D48: =D10 -> Related | E48: Excluded | F48: =F10 -> Related | G48: =G10 -> Related | H48: =H10 -> Related | I48: =I10 -> (E)+(F)+(G) | J48: =J10 -> Description / Justification
A49: =A40+1 -> 31
A50: =A49+1 -> 32 | B50: ='4b - ADIT Beginning Ending'!B16 -> 6002 - PT AFUDC Debt - NORM | C50: ='4b - ADIT Beginning Ending'!H16 -> 15037.21 | D50: 0 | E50: 0 | F50: 0 | G50: =C50 -> 15037.21 | H50: 0 | I50: =H50+G50+F50 -> 15037.21 | J50: Related to timing difference on AFUDC Equity
...

Sheet 4b - ADIT Beginning Ending
A1: Worksheet 4b - Beginning & Ending Balances
A2: Transource Maryland, LLC
A3: For the 12 months ended 12/31/27
H4: Page 1 of 2
A6: Line | B6: Beginning Balance | E6: Ending Balance | H6: AVG Bal
A7: No. | B7: 2027 | D7: Dr. (Cr.) | E7: 2027 | H7: to Worksheet 4a
A8: 1 | B8: Acct 281 | C8: (a) | F8: (b)
A10: =A8+1 -> 2
A11: =A10+1 -> 3
A12: =A11+1 -> 4 | B12: Form 1 p. 272.17.b | C12: =SUM(C10:C11) -> 0 | E12: Form 1 p. 273.17.k | F12: =SUM(F10:F11) -> 0 | H12: =AVERAGE(C12,F12) -> 0
C13: 0 | F13: 0
A14: =A12+1 -> 5 | B14: Acct 282
A15: =A14+1 -> 6 | B15: 3630 - ETR Adjustment | C15: 0 | E15: 3630 - ETR Adjustment | F15: 0 | H15: =AVERAGE(C15,F15) -> 0
A16: =A15+1 -> 7 | B16: 6002 - PT AFUDC Debt - NORM | C16: 15037.21 | E16: 6002 - PT AFUDC Debt - NORM | F16: 15037.21 | H16: =AVERAGE(C16,F16) -> 15037.21
A17: =A16+1 -> 8 | B17: 6009 - PT COR - NORM | C17: 3.0723 | E17: 6009 - PT COR - NORM | F17: 8.0157 | H17: =AVERAGE(C17,F17) -> 5.544
A18: =A17+1 -> 9 | B18: 6011 - PT CPI NORM | C18: -392.847 | E18: 6011 - PT CPI NORM | F18: -408.9918 | H18: =AVERAGE(C18,F18) -> -400.9194
A19: =A18+1 -> 10 | B19: 6018 - PT Method/Life - NORM | C19: 107.95125 | E19: 6018 - PT Method/Life - NORM | F19: -2529.4451 | H19: =AVERAGE(C19,F19) -> -1210.7469
A20: =A19+1 -> 11 | B20: 6523 - 2020 712L 481(a) Software | C20: 0 | E20: 6523 - 2020 712L 481(a) Software | F20: 0 | H20: =AVERAGE(C20,F20) -> 0
A21: =A20+1 -> 12 | C21: 0 | F21: 0 | H21: =AVERAGE(C21,F21) -> 0
A22: =A21+1 -> 13 | C22: 0 | F22: 0 | H22: =AVERAGE(C22,F22) -> 0
A23: =A22+1 -> 14 | C23: 0 | F23: 0 | H23: =AVERAGE(C23,F23) -> 0
A24: =A23+1 -> 15 | C24: 0 | F24: 0 | H24: =AVERAGE(C24,F24) -> 0
A25: =A24+1 -> 16 | C25: 0 | F25: 0 | H25: =AVERAGE(C25,F25) -> 0
A26: =A25+1 -> 17 | B26: Form 1 p. 274.9.b | C26: =SUM(C15:C25) -> 14755.387 | E26: Form 1 p. 275.9.k | F26: =SUM(F15:F25) -> 12106.789 | H26: =AVERAGE(C26,F26) -> 13431.088
A28: =A26+1 -> 18 | B28: Acct 283
A30: =A28+1 -> 19 | B30: 6002 - PT AFUDC Debt - NORM | C30: 5907.48 | E30: 6002 - PT AFUDC Debt - NORM | F30: 5907.48 | H30: =AVERAGE(C30,F30) -> 5907.48
A31: =A30+1 -> 20 | B31: 6009 - PT COR - NORM | C31: -1.07 | E31: 6009 - PT COR - NORM | F31: -1.07 | H31: =AVERAGE(C31,F31) -> -1.07
A32: =A31+1 -> 21 | B32: 6018 - PT Method/Life - NORM | C32: 942.65 | E32: 6018 - PT Method/Life - NORM | F32: 942.65 | H32: =AVERAGE(C32,F32) -> 942.65
A33: =A32+1 -> 22 | B33: 6523 - 2020 712L 481(a) Software | C33: 0 | E33: 6523 - 2020 712L 481(a) Software | F33: 0 | H33: =AVERAGE(C33,F33) -> 0
A34: =A33+1 -> 23 | B34: 7021 - PROVS POSS REV REFDS-A/L | C34: -107.97 | E34: 7021 - PROVS POSS REV REFDS-A/L | F34: -107.97 | H34: =AVERAGE(C34,F34) -> -107.97
A35: =A34+1 -> 24 | B35: 7027 - INSURANCE PREMIUMS ACCRUED | C35: 892 | E35: 7027 - INSURANCE PREMIUMS ACCRUED | F35: 892 | H35: =AVERAGE(C35,F35) -> 892
A36: =A35+1 -> 25 | B36: 7048 - ACCRD COMPANYWIDE INCENTV PLAN | C36: -115.15 | E36: 7048 - ACCRD COMPANYWIDE INCENTV PLAN | F36: -115.15 | H36: =AVERAGE(C36,F36) -> -115.15
A37: =A36+1 -> 26 | B37: 7423 - REG ASSET-FERC Formula Rates Under Recvr | C37: 61742.501 | E37: 7423 - REG ASSET-FERC Formula Rates Under Recvr | F37: 61742.501 | H37: =AVERAGE(C37,F37) -> 61742.501
A38: =A37+1 -> 27 | B38: 9014 - State Property Mod - MD | C38: 0.02 | E38: 9014 - State Property Mod - MD | F38: 0.02 | H38: =AVERAGE(C38,F38) -> 0.02
A39: =A38+1 -> 28 | B39: 3519 - DSIT ENTRY - NORMALIZED | C39: 5048.6577 | E39: 3519 - DSIT ENTRY - NORMALIZED | F39: 4008.1371 | H39: =AVERAGE(C39,F39) -> 4528.3974
A40: =A39+1 -> 29 | C40: 0 | F40: 0 | H40: =AVERAGE(C40,F40) -> 0
A41: =A40+1 -> 30 | C41: 0 | F41: 0 | H41: =AVERAGE(C41,F41) -> 0
A42: =A41+1 -> 31 | C42: 0 | F42: 0 | H42: =AVERAGE(C42,F42) -> 0
A43: =A42+1 -> 32 | C43: 0 | F43: 0 | H43: =AVERAGE(C43,F43) -> 0
A44: =A43+1 -> 33 | C44: 0 | F44: 0 | H44: =AVERAGE(C44,F44) -> 0
...

Sheet 4c - ADIT Proration
A1: Worksheet 4c - ADIT Proration Adjustment
A2: Transource Maryland, LLC
A3: For the 12 months ended 12/31/27
J4: Page 1 of 2
B5: Account 282
A7: Line
A8: No.
A9: 1 | B9: Days in Period | H9: Averaging with Proration
A10: =A9+1 -> 2 | B10: A | C10: B | D10: C | E10: D | F10: E | H10: F | I10: G | J10: H
A11: =A10+1 -> 3 | B11: Month | C11: Days in the Month | D11: Number of Days Remaining in Year After Month's Accrual of Deferred Taxes | E11: Total Days in Future Portion of Test Period | F11: Proration Amount (C / D) | H11: Projected Monthly Activity | I11: Prorated Projected Monthly Activity (E x F) | J11: Prorated Projected Balance (Cumulative Sum of G)
A12: =A11+1 -> 4
A13: =A12+1 -> 5 | B13: Average Balance of Prorated Items | J13: ='4b - ADIT Beginning Ending'!H19 -> -1210.7469
A14: =A13+1 -> 6 | B14: January | C14: 31 | D14: =E14-C14+1 -> 335 | E14: =$C$26 -> 365 | F14: =D14/E14 -> 0.91780822 | H14: =('4b - ADIT Beginning Ending'!F19-'4b - ADIT Beginning Ending'!C19)/12 -> -219.78303 | I14: =H14*F14 -> -201.71867 | J14: =$J13+$I14 -> -1412.4656
A15: =A14+1 -> 7 | B15: February | C15: 28 | D15: =D14-C15 -> 307 | E15: =$C$26 -> 365 | F15: =D15/E15 -> 0.84109589 | H15: =$H$14 -> -219.78303 | I15: =H15*F15 -> -184.8586 | J15: =$J14+$I15 -> -1597.3242
A16: =A15+1 -> 8 | B16: March | C16: 31 | D16: =D15-C16 -> 276 | E16: =$C$26 -> 365 | F16: =D16/E16 -> 0.75616438 | H16: =$H$14 -> -219.78303 | I16: =H16*F16 -> -166.1921 | J16: =$J15+$I16 -> -1763.5163
A17: =A16+1 -> 9 | B17: April | C17: 30 | D17: =D16-C17 -> 246 | E17: =$C$26 -> 365 | F17: =D17/E17 -> 0.6739726 | H17: =$H$14 -> -219.78303 | I17: =H17*F17 -> -148.12774 | J17: =$J16+$I17 -> -1911.6441
A18: =A17+1 -> 10 | B18: May | C18: 31 | D18: =D17-C18 -> 215 | E18: =$C$26 -> 365 | F18: =D18/E18 -> 0.5890411 | H18: =$H$14 -> -219.78303 | I18: =H18*F18 -> -129.46124 | J18: =$J17+$I18 -> -2041.1053
A19: =A18+1 -> 11 | B19: June | C19: 30 | D19: =D18-C19 -> 185 | E19: =$C$26 -> 365 | F19: =D19/E19 -> 0.50684932 | H19: =$H$14 -> -219.78303 | I19: =H19*F19 -> -111.39688 | J19: =$J18+$I19 -> -2152.5022
A20: =A19+1 -> 12 | B20: July | C20: 31 | D20: =D19-C20 -> 154 | E20: =$C$26 -> 365 | F20: =D20/E20 -> 0.42191781 | H20: =$H$14 -> -219.78303 | I20: =H20*F20 -> -92.730374 | J20: =$J19+$I20 -> -2245.2325
A21: =A20+1 -> 13 | B21: August | C21: 31 | D21: =D20-C21 -> 123 | E21: =$C$26 -> 365 | F21: =D21/E21 -> 0.3369863 | H21: =$H$14 -> -219.78303 | I21: =H21*F21 -> -74.06387 | J21: =$J20+$I21 -> -2319.2964
A22: =A21+1 -> 14 | B22: September | C22: 30 | D22: =D21-C22 -> 93 | E22: =$C$26 -> 365 | F22: =D22/E22 -> 0.25479452 | H22: =$H$14 -> -219.78303 | I22: =H22*F22 -> -55.999512 | J22: =$J21+$I22 -> -2375.2959
A23: =A22+1 -> 15 | B23: October | C23: 31 | D23: =D22-C23 -> 62 | E23: =$C$26 -> 365 | F23: =D23/E23 -> 0.16986301 | H23: =$H$14 -> -219.78303 | I23: =H23*F23 -> -37.333008 | J23: =$J22+$I23 -> -2412.6289
A24: =A23+1 -> 16 | B24: November | C24: 30 | D24: =D23-C24 -> 32 | E24: =$C$26 -> 365 | F24: =D24/E24 -> 0.087671233 | H24: =$H$14 -> -219.78303 | I24: =H24*F24 -> -19.268649 | J24: =$J23+$I24 -> -2431.8976
A25: =A24+1 -> 17 | B25: December | C25: 31 | D25: =D24-C25 -> 1 | E25: =$C$26 -> 365 | F25: =D25/E25 -> 0.002739726 | H25: =$H$14 -> -219.78303 | I25: =H25*F25 -> -0.60214529 | J25: =$J24+$I25 -> -2432.4997
A26: =A25+1 -> 18 | B26: Total | C26: =SUM(C14:C25) -> 365 | D26: =SUM(D14:D25) -> 2029 | E26: =SUM(E14:E25) -> 4380 | H26: =SUM(H14:H25) -> -2637.3964 | I26: =SUM(I14:I25) -> -1221.7528
A31: =A26+1 -> 19 | B31: Ending Balance of Prorated items | F31: ="(Line "&A25&", & Col H)" -> (Line 17, & Col H) | J31: =J25 -> -2432.4997
A32: =A31+1 -> 20 | B32: Non-prorated Average Balance | J32: =J13 -> -1210.7469
A33: =A32+1 -> 21 | B33: Proration Adjustment | F33: ="(Line "&A31&" minus Line "&A32&")" -> (Line 19 minus Line 20) | J33: =J31-J32 -> -1221.7528
B36: Account 283
A38: Line
A39: No.
A40: =A33+1 -> 22 | B40: Days in Period | H40: Averaging with Proration
A41: =A40+1 -> 23 | B41: A | C41: B | D41: C | E41: D | F41: E | H41: F | I41: G | J41: H
A42: =A41+1 -> 24 | B42: Month | C42: Days in the Month | D42: Number of Days Remaining in Year After Month's Accrual of Deferred Taxes | E42: Total Days in Future Portion of Test Period | F42: Proration Amount (C / D) | H42: Projected Monthly Activity | I42: Prorated Projected Monthly Activity (E x F) | J42: Prorated Projected Balance (Cumulative Sum of G)
A43: =A42+1 -> 25
A44: =A43+1 -> 26 | B44: December 31st balance Prorated Items
A45: =A44+1 -> 27 | B45: January | C45: 31 | D45: =E45-C45+1 -> 335 | E45: =$C$26 -> 365 | F45: =D45/E45 -> 0.91780822 | I45: =H45*F45 -> 0 | J45: =$J44+$I45 -> 0
A46: =A45+1 -> 28 | B46: February | C46: 28 | D46: =D45-C46 -> 307 | E46: =$C$26 -> 365 | F46: =D46/E46 -> 0.84109589 | I46: =H46*F46 -> 0 | J46: =$J45+$I46 -> 0
A47: =A46+1 -> 29 | B47: March | C47: 31 | D47: =D46-C47 -> 276 | E47: =$C$26 -> 365 | F47: =D47/E47 -> 0.75616438 | I47: =H47*F47 -> 0 | J47: =$J46+$I47 -> 0
A48: =A47+1 -> 30 | B48: April | C48: 30 | D48: =D47-C48 -> 246 | E48: =$C$26 -> 365 | F48: =D48/E48 -> 0.6739726 | I48: =H48*F48 -> 0 | J48: =$J47+$I48 -> 0
...

Sheet 4d - ADIT Amortization
A1: Worksheet 4d - (Excess)/Deficient ADIT Amortization (Note 1)
A2: Transource Maryland, LLC
A3: For the 12 months ended 12/31/27
K4: Page 1 of 2
B6: Protected - (Excess) / Deficient ADIT Amortization (Note 2)
B8: (a) | C8: (b) | D8: (c) | E8: (d) | F8: (e) | G8: (f) | H8: (g) | I8: (h) | J8: (i) | K8: (j)
D9: 1 | E9: 1 | F9: 100% | I9: Total Included | J9: Amortization Account | K9: Remaining
A10: Line | D10: Non-Transmission | E10: Related to Facilities | F10: Transmission | G10: Plant | H10: Labor | I10: in Income Tax Expense | J10: 410.1 / 411.1 | K10: Amortization
A11: No. | B11: Identification | C11: Total (Note 1) | D11: Related | E11: Excluded | F11: Related | G11: Related | H11: Related | I11: (e)+(f)+(g) | J11: (Note 1) | K11: Period (Note 2)
A13: 1
A14: =A13+1 -> 2
A15: =A14+1 -> 3
A16: =A15+1 -> 4
A17: =A16+1 -> 5
A18: =A17+1 -> 6
A19: =A18+1 -> 7
A20: =A19+1 -> 8
A21: =A20+1 -> 9
A22: =A21+1 -> 10
A23: =A22+1 -> 11
A24: =A23+1 -> 12 | B24: Subtotal | C24: =SUM(C13:C22) -> 0 | D24: =SUM(D13:D22) -> 0 | E24: =SUM(E13:E22) -> 0 | G24: =SUM(G13:G22) -> 0 | H24: =SUM(H13:H22) -> 0
A25: =A24+1 -> 13 | B25: Transmission Allocator [GP or W/S ] | D25: 0 | E25: 0 | F25: 1 | G25: 1 | H25: 1
A26: =A25+1 -> 14 | B26: ="Total (ln "&A24&" * ln "&A25&")" -> Total (ln 12 * ln 13) | D26: =D24*D25 -> 0 | E26: =E24*E25 -> 0 | G26: =G24*G25 -> 0 | H26: =H24*H25 -> 0 | I26: =SUM(E26:H26) -> 0
B30: Unprotected - (Excess) / Deficient ADIT Amortization (Note 3)
B32: (a) | C32: (b) | D32: (c) | E32: (d) | F32: (e) | G32: (f) | H32: (g) | I32: (h) | J32: (i) | K32: (j)
D33: 1 | E33: 1 | F33: 100% | I33: Total Included | J33: Amortization Account | K33: Remaining
A34: Line | D34: Non-Transmission | E34: Related to Facilities | F34: Transmission | G34: Plant | H34: Labor | I34: in Income Tax Expense | J34: 410.1 / 411.1 | K34: Amortization
A35: No. | B35: Identification | C35: Total (Note 1) | D35: Related | E35: Excluded | F35: Related | G35: Related | H35: Related | I35: (e)+(f)+(g) | J35: (Note 1) | K35: Period (Note 3)
A37: =A26+1 -> 15
A38: =A37+1 -> 16
A39: =A38+1 -> 17
A40: =A39+1 -> 18
A41: =A40+1 -> 19
A42: =A41+1 -> 20
A43: =A42+1 -> 21
A44: =A43+1 -> 22
A45: =A44+1 -> 23
A46: =A45+1 -> 24
A47: =A46+1 -> 25
A48: =A47+1 -> 26
...

Sheet 4e - Tax Remeasurement
A1: Worksheet 4e - Tax Remeasurement
A2: Transource Maryland, LLC
A3: For the 12 months ended 12/31/27
B5: Reason for Tax Remeasurement: | C5: Tax Cuts and Jobs Act of 2017
B7: (a) | C7: (b) | D7: (c) | F7: (d) | G7: (e) | H7: (f) | I7: (g) | J7: (h)
G8: Remeasurement | I8: Total | J8: Post-remeasurement
A9: Line | D9: Pre-remeasurement | F9: Remeasurement | G9: Amount | H9: 190/283 Reclass | I9: (Excess)/Deficiency | J9: Balance
A10: No. | B10: Utility Account | C10: Source | D10: Balance | F10: Percentage | G10: (e)=(c)*(d) | H10: (NOTE 2) | I10: (g)=(e)+(f) | J10: (h)=(c)+(f)
A12: 1 | B12: Account 190
A13: =A12+1 -> 2 | B13: Pre-remeasurement Electric Utility Balance | C13: 234.8.b | D13: 0
A14: =A13+1 -> 3 | B14: Less Deferred SIT | C14: Company Records | D14: 0
A15: =A14+1 -> 4 | D15: 0
A16: =A15+1 -> 5 | D16: 0
A17: =A16+1 -> 6 | B17: 190.1 | C17: Total including adjustments | D17: =D13-D14+D15+D16 -> 0 | F17: =1-(0.21/0.35) -> 0.4 | G17: =D17*F17 -> 0 | H17: 0 | I17: =G17+H17 -> 0 | J17: =D17+H17 -> 0
D18: 0
A19: =A17+1 -> 7 | B19: Account 281
A20: =A19+1 -> 8 | B20: Pre-remeasurement Electric Utility Balance | C20: 272.8.b | D20: 0
A21: =A20+1 -> 9 | B21: Less Deferred SIT | C21: Company Records | D21: 0
A22: =A21+1 -> 10 | D22: 0
A23: =A22+1 -> 11 | D23: 0
A24: =A23+1 -> 12 | B24: 282.1 (Enter Negative) | C24: Total including adjustments | D24: =-(D20-D21+D22+D23) -> 0 | F24: =1-(0.21/0.35) -> 0.4 | G24: =D24*F24 -> 0 | H24: 0 | I24: =G24+H24 -> 0 | J24: =D24+H24 -> 0
D25: 0
A26: =A24+1 -> 13 | B26: Account 282
A27: =A26+1 -> 14 | B27: Pre-remeasurement Electric Utility Balance | C27: 274.5.b | D27: 0
A28: =A27+1 -> 15 | B28: Less Deferred SIT | C28: Company Records | D28: 0
A29: =A28+1 -> 16 | D29: 0
A30: =A29+1 -> 17 | D30: 0
A31: =A30+1 -> 18 | B31: 282.1 (Enter Negative) | C31: Total including adjustments | D31: =-(D27-D28+D29+D30) -> 0 | F31: =1-(0.21/0.35) -> 0.4 | G31: =D31*F31 -> 0 | H31: 0 | I31: =G31+H31 -> 0 | J31: =D31+H31 -> 0
D32: 0
A33: =A31+1 -> 19 | B33: Account 283
A34: =A33+1 -> 20 | B34: Pre-remeasurement Electric Utility Balance | C34: 276.9.b | D34: 0
A35: =A34+1 -> 21 | B35: Less Deferred SIT | C35: Company Records | D35: 0
A36: =A35+1 -> 22 | D36: 0
A37: =A36+1 -> 23 | D37: 0
A38: =A37+1 -> 24 | B38: 283.1 (Enter Negative) | C38: Total including adjustments | D38: =-(D34-D35+D36+D37) -> 0 | F38: =1-(0.21/0.35) -> 0.4 | G38: =D38*F38 -> 0 | H38: 0 | I38: =G38+H38 -> 0 | J38: =D38+H38 -> 0
D39: 0
A40: =A38+1 -> 25 | B40: Total | D40: =D17+D24+D31+D38 -> 0 | G40: =G17+G24+G31+G38 -> 0 | H40: =H17+H24+H31+H38 -> 0 | I40: =I17+I24+I31+I38 -> 0 | J40: =J17+J24+J31+J38 -> 0
B42: Note 1: This sheet only to be used in years which have a change in corporate income tax rates.
B43: Note 2: As part of the remeasurement calculation, the remeasurement ADIT balances in account 1901001 were reclassed to account 2831001 to group nonproperty utility deferrals together as one timing difference.
B44: Note 3: Use blank rows in each account for any additional adjustments needed prior to remeasurement.

Sheet 5-Return
A1: Attachment 5
A2: Return on Rate Base Worksheet
A3: =+'Attachment H-30A'!$D$5 -> Transource Maryland, LLC
B5: RETURN ON RATE BASE (R)
F6: $
A7: 1 | B7: Long Term Debt Interest (117, sum of 62.c - 67.c) Note D | F7: 538149.3
A9: =+A7+1 -> 2 | B9: Preferred Dividends (118.29c) (positive number) | F9: 0
A11: =+A9+1 -> 3 | B11: Proprietary Capital (Line 25 ( c)) | F11: =+E40 -> 9959226.3
A12: =+A11+1 -> 4 | B12: Less Preferred Stock (line 25 (b)) | F12: =-D40 -> 0
A13: =+A12+1 -> 5 | B13: Less Account 216.1 Undistributed Subsidiary Earnings (Line 25(d)) | F13: =-F40 -> 0
A14: =+A13+1 -> 6 | B14: Less Account 219 Accum. Other Comprehensive Income (Line 25(e)) | F14: =-G40 -> 0
A15: =+A14+1 -> 7 | B15: Common Stock | C15: (Sum of Lines 3 through 6) | F15: =+SUM(F11:F14) -> 9959226.3
F18: $ | G18: % | H18: Cost | I18: Weighted
A19: =+A15+1 -> 8 | B19: Long Term Debt | C19: Line 25 (a), Note A and Attachment H-30A Note Q | F19: =+C40 -> 9900000 | G19: =1-G21 -> 0.5 | H19: =F7/F19 -> 0.054358515 | I19: =G19*H19 -> 0.027179258 | J19: =WCLTD
A20: =+A19+1 -> 9 | B20: Preferred Stock | C20: Line 25 (b), Note B and Attachment H-30A Note Q | F20: =+D40 -> 0 | G20: 0 | H20: =IFERROR(+F9/F20,0) -> 0 | I20: =G20*H20 -> 0
A21: =+A20+1 -> 10 | B21: Common Stock | C21: Line 7, Note C and Attachment H-30A Notes Q and T | F21: =+F15 -> 9959226.3 | G21: =IF(F21/F22>50%,50%,F21/F22) -> 0.5 | H21: =+'Attachment H-30A'!G205 -> 0.104 | I21: =G21*H21 -> 0.052
A22: =+A21+1 -> 11 | B22: Total | C22: (Sum of Lines 8 through 10) | F22: =SUM(F19:F21) -> 19859226 | I22: =SUM(I19:I21) -> 0.079179258 | J22: =R
C25: (a) | D25: (b) | E25: ( c) | F25: (d) | G25: (e)
B26: Monthly Balances for Capital Structure | C26: Long Term Debt (112.18-21.c) | D26: Preferred Stock (112.3.c) | E26: Proprietary Capital (112.16.c) | F26: Undistributed Sub Earnings 216.1 (112.12.c) | G26: Accum Other Comp. Income 219 (112.15.c)
A27: =+A22+1 -> 12 | B27: December (prior year) | C27: 9900000 | D27: 0 | E27: 10669942 | F27: 0 | G27: 0
A28: =+A27+1 -> 13 | B28: January | C28: 9900000 | D28: 0 | E28: 9900000 | F28: 0 | G28: 0
A29: =+A28+1 -> 14 | B29: February | C29: 9900000 | D29: 0 | E29: 9900000 | F29: 0 | G29: 0
A30: =+A29+1 -> 15 | B30: March | C30: 9900000 | D30: 0 | E30: 9900000 | F30: 0 | G30: 0
A31: =+A30+1 -> 16 | B31: April | C31: 9900000 | D31: 0 | E31: 9900000 | F31: 0 | G31: 0
A32: =+A31+1 -> 17 | B32: May | C32: 9900000 | D32: 0 | E32: 9900000 | F32: 0 | G32: 0
A33: =+A32+1 -> 18 | B33: June | C33: 9900000 | D33: 0 | E33: 9900000 | F33: 0 | G33: 0
A34: =+A33+1 -> 19 | B34: July | C34: 9900000 | D34: 0 | E34: 9900000 | F34: 0 | G34: 0
A35: =+A34+1 -> 20 | B35: August | C35: 9900000 | D35: 0 | E35: 9900000 | F35: 0 | G35: 0
A36: =+A35+1 -> 21 | B36: September | C36: 9900000 | D36: 0 | E36: 9900000 | F36: 0 | G36: 0
A37: =+A36+1 -> 22 | B37: October | C37: 9900000 | D37: 0 | E37: 9900000 | F37: 0 | G37: 0
A38: =+A37+1 -> 23 | B38: November | C38: 9900000 | D38: 0 | E38: 9900000 | F38: 0 | G38: 0
A39: =+A38+1 -> 24 | B39: December | C39: 9900000 | D39: 0 | E39: 9900000 | F39: 0 | G39: 0
A40: =+A39+1 -> 25 | B40: 13 Month Average | C40: =+SUM(C27:C39)/13 -> 9900000 | D40: =+SUM(D27:D39)/13 -> 0 | E40: =+SUM(E27:E39)/13 -> 9959226.3 | F40: =+SUM(F27:F39)/13 -> 0 | G40: =+SUM(G27:G39)/13 -> 0
A42: Notes
A43: A | B43: Long Term debt balance will reflect the 13 month average of the balances, of which the 1st and 13th are found on page 112 lines 18.c to 21.c in the Form No. 1, the cost is calculated by dividing line 1 by the Long Term Debt balance on line 8.
A45: B | B45: Preferred Stock balance will reflect the 13 month average of the balances, of which the 1st and 13th are found on page 112 line 3.c in the Form No. 1
A46: C | B46: Common Stock balance will reflect the 13 month average of the balances, of which the 1st and 13th are found on Form 1 page 112 line 16.c less lines 3.c , 12.c, and 15.c
A47: D | B47: Long Term debt interest is the sum of Form 1 page 117 lines 62-67.c, with 65-66.c entered as negative numbers. If the Company has any short term debt with associated companies, the interest on that short term debt recorded in Account 430 will be excluded. The portion of interest in Account 430 related to any long term debt to associated companies will be included.

Sheet 6 - True-Up Interest
A1: Attachment 6
A2: Interest on True-Up
A3: =+'Attachment H-30A'!D5 -> Transource Maryland, LLC
A6: 2025 | D6: =+A6 -> 2025
A7: Projected Revenue Requirement (Note A) | D7: Actual Net Revenue Requirement (Note B) | G7: Over (Under) Recovery
A9: ='3-Project True-up'!G11 -> 1777490.5 | B9: Less | D9: =+'3-Project True-up'!H29 -> 1930676.7 | F9: Equals | G9: =IF(D9=0,0,A9-D9) -> -153186.15
A11: Note A - Projected ATRR for the true-up year from Page 1, Line 1 of Projection Attachment H-30A minus Line 6 of Projection Attachment H-30A.
A12: Note B - Actual Net ATRR for the true-up year from Page 1, Line 10 of True-Up Attachment H-30A.
A16: Interest Rate on Amount of Refunds or Surcharges | D16: Over (Under) Recovery Plus Interest | F16: Monthly Interest Rate on Attachment 6a | G16: Months | H16: Calculated Interest | I16: Amortization | K16: Surcharge (Refund) Owed
F17: =+'6a - True-up Interest Rate'!E33 -> 0.00613375
A19: An over or under collection will be recovered prorata over year collected, held for one year and returned prorata over next year
A22: Calculation of Interest | H22: Monthly
A23: January | B23: ="Year "&A6 -> Year 2025 | D23: =+G9/12 -> -12765.512 | F23: =+F17 -> 0.00613375 | G23: 12 | H23: =F23*D23*G23*-1 -> 939.60552 | K23: =(-H23+D23)*-1 -> 13705.118
A24: February | B24: =+B23 -> Year 2025 | D24: =+D23 -> -12765.512 | F24: =+F23 -> 0.00613375 | G24: =+G23-1 -> 11 | H24: =F24*D24*G24*-1 -> 861.30506 | K24: =(-H24+D24)*-1 -> 13626.817
A25: March | B25: =+B24 -> Year 2025 | D25: =+D24 -> -12765.512 | F25: =+F24 -> 0.00613375 | G25: =+G24-1 -> 10 | H25: =F25*D25*G25*-1 -> 783.0046 | K25: =(-H25+D25)*-1 -> 13548.517
A26: April | B26: =+B25 -> Year 2025 | D26: =+D25 -> -12765.512 | F26: =+F25 -> 0.00613375 | G26: =+G25-1 -> 9 | H26: =F26*D26*G26*-1 -> 704.70414 | K26: =(-H26+D26)*-1 -> 13470.216
A27: May | B27: =+B26 -> Year 2025 | D27: =+D26 -> -12765.512 | F27: =+F26 -> 0.00613375 | G27: =+G26-1 -> 8 | H27: =F27*D27*G27*-1 -> 626.40368 | K27: =(-H27+D27)*-1 -> 13391.916
A28: June | B28: =+B27 -> Year 2025 | D28: =+D27 -> -12765.512 | F28: =+F27 -> 0.00613375 | G28: =+G27-1 -> 7 | H28: =F28*D28*G28*-1 -> 548.10322 | K28: =(-H28+D28)*-1 -> 13313.615
A29: July | B29: =+B28 -> Year 2025 | D29: =+D28 -> -12765.512 | F29: =+F28 -> 0.00613375 | G29: =+G28-1 -> 6 | H29: =F29*D29*G29*-1 -> 469.80276 | K29: =(-H29+D29)*-1 -> 13235.315
A30: August | B30: =+B29 -> Year 2025 | D30: =+D29 -> -12765.512 | F30: =+F29 -> 0.00613375 | G30: =+G29-1 -> 5 | H30: =F30*D30*G30*-1 -> 391.5023 | K30: =(-H30+D30)*-1 -> 13157.014
A31: September | B31: =+B30 -> Year 2025 | D31: =+D30 -> -12765.512 | F31: =+F30 -> 0.00613375 | G31: =+G30-1 -> 4 | H31: =F31*D31*G31*-1 -> 313.20184 | K31: =(-H31+D31)*-1 -> 13078.714
A32: October | B32: =+B31 -> Year 2025 | D32: =+D31 -> -12765.512 | F32: =+F31 -> 0.00613375 | G32: =+G31-1 -> 3 | H32: =F32*D32*G32*-1 -> 234.90138 | K32: =(-H32+D32)*-1 -> 13000.413
A33: November | B33: =+B32 -> Year 2025 | D33: =+D32 -> -12765.512 | F33: =+F32 -> 0.00613375 | G33: =+G32-1 -> 2 | H33: =F33*D33*G33*-1 -> 156.60092 | K33: =(-H33+D33)*-1 -> 12922.113
A34: December | B34: =+B33 -> Year 2025 | D34: =+D33 -> -12765.512 | F34: =+F33 -> 0.00613375 | G34: =+G33-1 -> 1 | H34: =F34*D34*G34*-1 -> 78.30046 | K34: =(-H34+D34)*-1 -> 12843.813
H35: =SUM(H23:H34) -> 6107.4359 | K35: =SUM(K23:K34) -> 159293.58
H37: Annual
A38: January through December | B38: ="Year "&$A$6+1 -> Year 2026 | D38: =K35 -> 159293.58 | F38: =+F34 -> 0.00613375 | G38: 12 | H38: =+G38*F38*D38 -> 11724.804 | K38: =+D38+H38 -> 171018.39
A40: Over (Under) Recovery Plus Interest Amortized and Recovered Over 12 Months | H40: Monthly
A41: January | B41: ="Year "&$A$6+2 -> Year 2027 | D41: =-K38 -> -171018.39 | F41: =+F34 -> 0.00613375 | H41: =-F41*D41 -> 1048.984 | I41: =PMT(F41,12,K$38) -> -14826.101 | K41: =(+D41+D41*F41-I41)*-1 -> 157241.27
A42: February | B42: =+B41 -> Year 2027 | D42: =-K41 -> -157241.27 | F42: =+F41 -> 0.00613375 | H42: =-F42*D42 -> 964.47863 | I42: =I41 -> -14826.101 | K42: =(+D42+D42*F42-I42)*-1 -> 143379.65
A43: March | B43: =+B42 -> Year 2027 | D43: =-K42 -> -143379.65 | F43: =+F42 -> 0.00613375 | H43: =-F43*D43 -> 879.4549 | I43: =I42 -> -14826.101 | K43: =(+D43+D43*F43-I43)*-1 -> 129433
A44: April | B44: =+B43 -> Year 2027 | D44: =-K43 -> -129433 | F44: =+F43 -> 0.00613375 | H44: =-F44*D44 -> 793.90966 | I44: =I43 -> -14826.101 | K44: =(+D44+D44*F44-I44)*-1 -> 115400.81
A45: May | B45: =+B44 -> Year 2027 | D45: =-K44 -> -115400.81 | F45: =+F44 -> 0.00613375 | H45: =-F45*D45 -> 707.8397 | I45: =I44 -> -14826.101 | K45: =(+D45+D45*F45-I45)*-1 -> 101282.55
A46: June | B46: =B45 -> Year 2027 | D46: =-K45 -> -101282.55 | F46: =+F45 -> 0.00613375 | H46: =-F46*D46 -> 621.24182 | I46: =I45 -> -14826.101 | K46: =(+D46+D46*F46-I46)*-1 -> 87077.687
A47: July | B47: =+B46 -> Year 2027 | D47: =-K46 -> -87077.687 | F47: =+F46 -> 0.00613375 | H47: =-F47*D47 -> 534.11276 | I47: =I46 -> -14826.101 | K47: =(+D47+D47*F47-I47)*-1 -> 72785.698
A48: August | B48: =+B47 -> Year 2027 | D48: =-K47 -> -72785.698 | F48: =+F47 -> 0.00613375 | H48: =-F48*D48 -> 446.44928 | I48: =I47 -> -14826.101 | K48: =(+D48+D48*F48-I48)*-1 -> 58406.046
A49: September | B49: =+B48 -> Year 2027 | D49: =-K48 -> -58406.046 | F49: =+F48 -> 0.00613375 | H49: =-F49*D49 -> 358.24809 | I49: =I48 -> -14826.101 | K49: =(+D49+D49*F49-I49)*-1 -> 43938.193
A50: October | B50: =+B49 -> Year 2027 | D50: =-K49 -> -43938.193 | F50: =+F49 -> 0.00613375 | H50: =-F50*D50 -> 269.50589 | I50: =I49 -> -14826.101 | K50: =(+D50+D50*F50-I50)*-1 -> 29381.598
A51: November | B51: =+B50 -> Year 2027 | D51: =-K50 -> -29381.598 | F51: =+F50 -> 0.00613375 | H51: =-F51*D51 -> 180.21938 | I51: =I50 -> -14826.101 | K51: =(+D51+D51*F51-I51)*-1 -> 14735.716
A52: December | B52: =+B51 -> Year 2027 | D52: =-K51 -> -14735.716 | F52: =+F51 -> 0.00613375 | H52: =-F52*D52 -> 90.385198 | I52: =I51 -> -14826.101 | K52: =(+D52+D52*F52-I52)*-1 -> -1.6370905e-11
...

Sheet 6a - True-up Interest Rate
D1: Attachment 6a
D2: True-Up Interest Rate Calculation
D3: =+'Attachment H-30A'!D5 -> Transource Maryland, LLC
A6: This Attachment is used to compute the interest rate to be applied to each year's revenue requirement true-up.
B10: Applicable FERC Interest Rate (Note A):
A11: 1 | C11: Rate Year January | E11: 0.0804
A12: 2 | C12: Rate Year February | E12: 0.0804
A13: 3 | C13: Rate Year March | E13: 0.0804
A14: 4 | C14: Rate Year April | E14: 0.0755
A15: 5 | C15: Rate Year May | E15: 0.0755
A16: 6 | C16: Rate Year June | E16: 0.0755
A17: 7 | C17: Rate Year July | E17: 0.075
A18: 8 | C18: Rate Year August | E18: 0.075
A19: 9 | C19: Rate Year September | E19: 0.075
A20: 10 | C20: Rate Year October | E20: 0.075
A21: 11 | C21: Rate Year November | E21: 0.075
A22: 12 | C22: Rate Year December | E22: 0.075
A23: =+A22+1 -> 13 | C23: Rate Year Plus 1 January | E23: 0.072
A24: =+A23+1 -> 14 | C24: Rate Year Plus 1 February | E24: 0.072
A25: =+A24+1 -> 15 | C25: Rate Year Plus 1 March | E25: 0.072
A26: =+A25+1 -> 16 | C26: Rate Year Plus 1 April | E26: 0.0678
A27: =+A26+1 -> 17 | C27: Rate Year Plus 1 May | E27: 0.0678
A28: =+A27+1 -> 18 | C28: Rate Year Plus 1 June | E28: 0.0678
A29: =+A28+1 -> 19 | C29: Rate Year Plus 1 July | E29: 0.0675
A30: =+A29+1 -> 20 | C30: Rate Year Plus 1 August | E30: 0.0675
A32: =+A30+1 -> 21 | B32: Average rate | E32: =+AVERAGE(E11:E30) -> 0.073605
A33: =+A32+1 -> 22 | B33: Monthly Average rate | E33: =+E32/12 -> 0.00613375
A35: Note A - Lines 1-20 are the FERC interest rates under section 35.19a of the regulations for the period shown. Line 21 is the average of lines 1-20.

Sheet 7 - PBOP
A1: Attachment 7
A2: Post-Employment Benefits Other than Pensions (PBOP)
A3: =+'Attachment H-30A'!D5 -> Transource Maryland, LLC
B5: Calculation of PBOP Expenses
D6: AEP | E6: KCP&L | F6: Total
A7: Line No. | D7: (a) | E7: (b) | F7: (c) = (a+b)
A8: 1 | D8: Year Ended December 31, 2015 | E8: Year Ended December 31, 2015
A9: 2 | B9: Total PBOP expenses, corporate parent companies | C9: Note A | D9: =-98328251+5994383 -> -92333868 | E9: 8386137
A10: 3 | B10: Amount relating to retired personnel | C10: Note A | D10: =+D9*((16980+297)/(16980+17214+48+297)) -> -46186984 | E10: =+E9*((2242+1149)/(2950+2242+1855+1149)) -> 3469667
A11: 4 | B11: Amount allocated on Labor | C11: Line 2 less line 3 | D11: =D9-D10 -> -46146884 | E11: =E9-E10 -> 4916470
A12: 5 | B12: Labor dollars | C12: Note B | D12: 1573181281 | E12: =243676962-51943652 -> 191733310
A13: 6 | B13: Cost per labor dollar | C13: Line 4 divided by line 5 | D13: =IFERROR(D11/D12,0) -> -0.029333482 | E13: =IFERROR(E11/E12,0) -> 0.025642232
A14: 7 | B14: Labor (labor not capitalized) current year | C14: Note C | D14: 30387.627 | E14: 0
A15: 8 | B15: PBOP Expense Allowed for current year | C15: Line 6 times line 7 | D15: =D13*D14 -> -891.37489 | E15: =E13*E14 -> 0 | F15: =SUM(D15:E15) -> -891.37489
A16: 9
A18: 10 | B18: Actual PBOP in Company's O&M and A&G expense accounts in Form No. 1 | F18: 0
A21: Notes
A22: A | B22: Amounts on lines 2-3 reflect data from the 2015 actuarial reports for AEP and KCP&L. These values cannot change absent approval or acceptance by FERC in a separate proceeding.
